BEGIN:VCALENDAR
VERSION:2.0
PRODID:-//Veszprémi Érsekség Turisztikai Központ - ECPv6.15.18//NONSGML v1.0//EN
CALSCALE:GREGORIAN
METHOD:PUBLISH
X-ORIGINAL-URL:https://vetk.hu
X-WR-CALDESC:Események Veszprémi Érsekség Turisztikai Központ
REFRESH-INTERVAL;VALUE=DURATION:PT1H
X-Robots-Tag:noindex
X-PUBLISHED-TTL:PT1H
BEGIN:VTIMEZONE
TZID:Europe/Budapest
BEGIN:DAYLIGHT
TZOFFSETFROM:+0100
TZOFFSETTO:+0200
TZNAME:CEST
DTSTART:20220327T010000
END:DAYLIGHT
BEGIN:STANDARD
TZOFFSETFROM:+0200
TZOFFSETTO:+0100
TZNAME:CET
DTSTART:20221030T010000
END:STANDARD
BEGIN:DAYLIGHT
TZOFFSETFROM:+0100
TZOFFSETTO:+0200
TZNAME:CEST
DTSTART:20230326T010000
END:DAYLIGHT
BEGIN:STANDARD
TZOFFSETFROM:+0200
TZOFFSETTO:+0100
TZNAME:CET
DTSTART:20231029T010000
END:STANDARD
BEGIN:DAYLIGHT
TZOFFSETFROM:+0100
TZOFFSETTO:+0200
TZNAME:CEST
DTSTART:20240331T010000
END:DAYLIGHT
BEGIN:STANDARD
TZOFFSETFROM:+0200
TZOFFSETTO:+0100
TZNAME:CET
DTSTART:20241027T010000
END:STANDARD
BEGIN:DAYLIGHT
TZOFFSETFROM:+0100
TZOFFSETTO:+0200
TZNAME:CEST
DTSTART:20250330T010000
END:DAYLIGHT
BEGIN:STANDARD
TZOFFSETFROM:+0200
TZOFFSETTO:+0100
TZNAME:CET
DTSTART:20251026T010000
END:STANDARD
END:VTIMEZONE
BEGIN:VEVENT
DTSTART;TZID=Europe/Budapest:20241026T180000
DTEND;TZID=Europe/Budapest:20241026T200000
DTSTAMP:20260421T120103
CREATED:20241025T053020Z
LAST-MODIFIED:20241025T053020Z
UID:4722-1729965600-1729972800@vetk.hu
SUMMARY:Krakkói kórus ad ingyenes koncertet
DESCRIPTION:A Szent Mihály Főszékesegyházban október 26-án szombaton a 18 órai misében szolgál\, majd pedig ingyenes koncertet ad a krakkói Psalmodia kórus. Szeretettel ajánljuk figyelmükbe.
URL:https://vetk.hu/event/krakkoi-korus-ad-ingyenes-koncertet/
LOCATION:Szent Mihály Főszékesegyház\, Vár utca\, Veszprém\, Veszprém\, 8200\, Magyarország
CATEGORIES:egyéb lelkiség/kulturális,ingyenes,koncert,lelkiségi program mindenkinek
ATTACH;FMTTYPE=image/jpeg:https://vetk.hu/wp-content/uploads/2024/10/Black-and-Orange-Minimalist-Cheerleading-Tryouts-Poster.jpg
END:VEVENT
BEGIN:VEVENT
DTSTART;VALUE=DATE:20230507
DTEND;VALUE=DATE:20230514
DTSTAMP:20260421T120103
CREATED:20230507T140706Z
LAST-MODIFIED:20230507T140742Z
UID:474-1683417600-1684022399@vetk.hu
SUMMARY:Gizella-hét
DESCRIPTION:A hét folyamán változatos programokat\, filmvetítéseket\, koncerteket látogathatnak az érdeklődök. Gizella nap alkalmából a Szent Mihály Főszékesegyházban szentmisével ünneplünk. \nA program ingyenes.
URL:https://vetk.hu/event/gizella-het/
LOCATION:Veszprémi vár épületei
END:VEVENT
END:VCALENDAR