BEGIN:VCALENDAR
VERSION:2.0
PRODID:-//Veszprémi Érsekség Turisztikai Központ - ECPv6.15.18//NONSGML v1.0//EN
CALSCALE:GREGORIAN
METHOD:PUBLISH
X-WR-CALNAME:Veszprémi Érsekség Turisztikai Központ
X-ORIGINAL-URL:https://vetk.hu
X-WR-CALDESC:Események Veszprémi Érsekség Turisztikai Központ
REFRESH-INTERVAL;VALUE=DURATION:PT1H
X-Robots-Tag:noindex
X-PUBLISHED-TTL:PT1H
BEGIN:VTIMEZONE
TZID:Europe/Budapest
BEGIN:DAYLIGHT
TZOFFSETFROM:+0100
TZOFFSETTO:+0200
TZNAME:CEST
DTSTART:20220327T010000
END:DAYLIGHT
BEGIN:STANDARD
TZOFFSETFROM:+0200
TZOFFSETTO:+0100
TZNAME:CET
DTSTART:20221030T010000
END:STANDARD
BEGIN:DAYLIGHT
TZOFFSETFROM:+0100
TZOFFSETTO:+0200
TZNAME:CEST
DTSTART:20230326T010000
END:DAYLIGHT
BEGIN:STANDARD
TZOFFSETFROM:+0200
TZOFFSETTO:+0100
TZNAME:CET
DTSTART:20231029T010000
END:STANDARD
BEGIN:DAYLIGHT
TZOFFSETFROM:+0100
TZOFFSETTO:+0200
TZNAME:CEST
DTSTART:20240331T010000
END:DAYLIGHT
BEGIN:STANDARD
TZOFFSETFROM:+0200
TZOFFSETTO:+0100
TZNAME:CET
DTSTART:20241027T010000
END:STANDARD
END:VTIMEZONE
BEGIN:VEVENT
DTSTART;TZID=Europe/Budapest:20231230T190000
DTEND;TZID=Europe/Budapest:20231230T210000
DTSTAMP:20260423T060417
CREATED:20231228T080940Z
LAST-MODIFIED:20231228T080940Z
UID:3236-1703962800-1703970000@vetk.hu
SUMMARY:Betlehem veled - "tégy engem békéd eszközévé"
DESCRIPTION:Fellépők: \n\nEucharist együtes\nTrüffel Quartet vonósnégyes\nDramatizált Biblia társulat\n\nAssisi Szent Ferenc 800 évvel ezelőtt állította fel az első mai értelemben vett betlehemi jászolt\, hogy még intenzívebb módon élhesse át Jézus Krisztus születésének csodáját\, amely a rendalapító hitvallása szerint éppen olyan\, mint amikor a pap kezében az ostya Krisztus testévé lényegül át. \n 
URL:https://vetk.hu/event/betlehem-veled-tegy-engem-beked-eszkozeve/
LOCATION:Szent Mihály Főszékesegyház\, Vár utca\, Veszprém\, Veszprém\, 8200\, Magyarország
CATEGORIES:családos program,egyéb lelkiség/kulturális,ingyenes,karitász,koncert,lelkiségi program mindenkinek
ATTACH;FMTTYPE=image/jpeg:https://vetk.hu/wp-content/uploads/2023/12/gavel.jpg
END:VEVENT
END:VCALENDAR