BEGIN:VCALENDAR
VERSION:2.0
PRODID:-//Veszprémi Érsekség Turisztikai Központ - ECPv6.15.18//NONSGML v1.0//EN
CALSCALE:GREGORIAN
METHOD:PUBLISH
X-WR-CALNAME:Veszprémi Érsekség Turisztikai Központ
X-ORIGINAL-URL:https://vetk.hu
X-WR-CALDESC:Események Veszprémi Érsekség Turisztikai Központ
REFRESH-INTERVAL;VALUE=DURATION:PT1H
X-Robots-Tag:noindex
X-PUBLISHED-TTL:PT1H
BEGIN:VTIMEZONE
TZID:Europe/Budapest
BEGIN:DAYLIGHT
TZOFFSETFROM:+0100
TZOFFSETTO:+0200
TZNAME:CEST
DTSTART:20230326T010000
END:DAYLIGHT
BEGIN:STANDARD
TZOFFSETFROM:+0200
TZOFFSETTO:+0100
TZNAME:CET
DTSTART:20231029T010000
END:STANDARD
BEGIN:DAYLIGHT
TZOFFSETFROM:+0100
TZOFFSETTO:+0200
TZNAME:CEST
DTSTART:20240331T010000
END:DAYLIGHT
BEGIN:STANDARD
TZOFFSETFROM:+0200
TZOFFSETTO:+0100
TZNAME:CET
DTSTART:20241027T010000
END:STANDARD
BEGIN:DAYLIGHT
TZOFFSETFROM:+0100
TZOFFSETTO:+0200
TZNAME:CEST
DTSTART:20250330T010000
END:DAYLIGHT
BEGIN:STANDARD
TZOFFSETFROM:+0200
TZOFFSETTO:+0100
TZNAME:CET
DTSTART:20251026T010000
END:STANDARD
END:VTIMEZONE
BEGIN:VEVENT
DTSTART;TZID=Europe/Budapest:20241207T180000
DTEND;TZID=Europe/Budapest:20241207T200000
DTSTAMP:20260422T093918
CREATED:20241205T090118Z
LAST-MODIFIED:20241205T090118Z
UID:4870-1733594400-1733601600@vetk.hu
SUMMARY:Sacro Song szentmise és gálakoncert
DESCRIPTION:
URL:https://vetk.hu/event/sacro-song-szentmise-es-galakoncert/
LOCATION:Szent Mihály Főszékesegyház\, Vár utca\, Veszprém\, Veszprém\, 8200\, Magyarország
CATEGORIES:családos program,koncert
ATTACH;FMTTYPE=image/jpeg:https://vetk.hu/wp-content/uploads/2024/12/SACROSONG_VESZPREM_-gala-meghivo_9_16.jpg
END:VEVENT
BEGIN:VEVENT
DTSTART;TZID=Europe/Budapest:20241214T190000
DTEND;TZID=Europe/Budapest:20241214T203000
DTSTAMP:20260422T093918
CREATED:20241129T091847Z
LAST-MODIFIED:20241129T091847Z
UID:4867-1734202800-1734208200@vetk.hu
SUMMARY:Adventi zenés áhítat az Orlando énekegyüttessel
DESCRIPTION:Szeretettel várunk mindenkit egy különleges adventi eseményre a veszprémi Szent Mihály Főszékesegyházba. \nAz Orlando énekegyüttes adventi zenés áhítatot tart\, mely során gyönyörű kórusművek hangzanak el\, segítve minket a karácsonyra való lelki felkészülésben. \nAz est folyamán olyan mesterműveket hallhatunk\, mint Nicolas Gombert: Ave Regina caelorum és William Byrd: Ne irascaris Domine. Az énekegyüttes művészeti vezetője és karmestere\, Vikman Pál\, biztosítja a színvonalas zenei élményt. \nIdőpont: 2024. december 14.\, 19:00\nHelyszín: Veszprémi Szent Mihály Főszékesegyház \nCsendesedjünk el együtt az adventi időszakban\, és töltsük meg szívünket az egyházzene varázsával. Az esemény mindenki számára nyitott és ingyenes. Szeretettel várjuk Önt és családját is!
URL:https://vetk.hu/event/adventi-zenes-ahitat-az-orlando-enekegyuttessel/
LOCATION:Szent Mihály Főszékesegyház\, Vár utca\, Veszprém\, Veszprém\, 8200\, Magyarország
CATEGORIES:családos program,egyéb lelkiség/kulturális,ingyenes,koncert,lelkiségi program mindenkinek
ATTACH;FMTTYPE=image/jpeg:https://vetk.hu/wp-content/uploads/2024/11/Orlando800-1.jpg
END:VEVENT
END:VCALENDAR