BEGIN:VCALENDAR
VERSION:2.0
PRODID:-//Veszprémi Érsekség Turisztikai Központ - ECPv6.15.18//NONSGML v1.0//EN
CALSCALE:GREGORIAN
METHOD:PUBLISH
X-ORIGINAL-URL:https://vetk.hu
X-WR-CALDESC:Események Veszprémi Érsekség Turisztikai Központ
REFRESH-INTERVAL;VALUE=DURATION:PT1H
X-Robots-Tag:noindex
X-PUBLISHED-TTL:PT1H
BEGIN:VTIMEZONE
TZID:Europe/Budapest
BEGIN:DAYLIGHT
TZOFFSETFROM:+0100
TZOFFSETTO:+0200
TZNAME:CEST
DTSTART:20230326T010000
END:DAYLIGHT
BEGIN:STANDARD
TZOFFSETFROM:+0200
TZOFFSETTO:+0100
TZNAME:CET
DTSTART:20231029T010000
END:STANDARD
BEGIN:DAYLIGHT
TZOFFSETFROM:+0100
TZOFFSETTO:+0200
TZNAME:CEST
DTSTART:20240331T010000
END:DAYLIGHT
BEGIN:STANDARD
TZOFFSETFROM:+0200
TZOFFSETTO:+0100
TZNAME:CET
DTSTART:20241027T010000
END:STANDARD
BEGIN:DAYLIGHT
TZOFFSETFROM:+0100
TZOFFSETTO:+0200
TZNAME:CEST
DTSTART:20250330T010000
END:DAYLIGHT
BEGIN:STANDARD
TZOFFSETFROM:+0200
TZOFFSETTO:+0100
TZNAME:CET
DTSTART:20251026T010000
END:STANDARD
END:VTIMEZONE
BEGIN:VEVENT
DTSTART;TZID=Europe/Budapest:20241025T170000
DTEND;TZID=Europe/Budapest:20241025T173000
DTSTAMP:20260421T150513
CREATED:20241025T052027Z
LAST-MODIFIED:20241025T052027Z
UID:4704-1729875600-1729877400@vetk.hu
SUMMARY:Bódi Mária Magdolna öröksége – könyvbemutató
DESCRIPTION:Várunk szeretettel minden érdeklődőt 2024. október 25-én\, pénteken 17 órakor a Biró-Giczey Házban\, ahol bemutatjuk a Veszprémi Érsekség legújabb tanulmánykötetét\, amely Bódi Mária Magdolna életét\, hitvallását és környezetét mutatja be. Ez a különleges kiadvány a Veszprémi Főegyházmegyei Könyvtár és Levéltár munkatársai készítették\, ami segít közelebb hozni Magdi örökségét\, aki életét Istennek szentelte és hősiesen halt meg hitéért.\nNe felejtsük el\, hogy mindössze fél év múlva boldoggá avatják Bódi Mária Magdolnát\, és ez a könyv egy újabb lehetőség arra\, hogy mélyebben megismerjük az ő példamutató életét.\nA kötetbemutató a Magyar Katolikus Kulturális Hetek programsorozat része.
URL:https://vetk.hu/event/bodi-maria-magdolna-oroksege-konyvbemutato/
LOCATION:Biró-Giczey Ház\, Vár utca 31.\, Veszprém\, Veszprém\, 8200\, Magyarország
CATEGORIES:családos program,egyéb lelkiség/kulturális,ingyenes
ATTACH;FMTTYPE=image/jpeg:https://vetk.hu/wp-content/uploads/2024/10/bmm-kotetbemutato1.jpg
END:VEVENT
END:VCALENDAR