BEGIN:VCALENDAR
VERSION:2.0
PRODID:-//Veszprémi Érsekség Turisztikai Központ - ECPv6.15.18//NONSGML v1.0//EN
CALSCALE:GREGORIAN
METHOD:PUBLISH
X-WR-CALNAME:Veszprémi Érsekség Turisztikai Központ
X-ORIGINAL-URL:https://vetk.hu
X-WR-CALDESC:Események Veszprémi Érsekség Turisztikai Központ
REFRESH-INTERVAL;VALUE=DURATION:PT1H
X-Robots-Tag:noindex
X-PUBLISHED-TTL:PT1H
BEGIN:VTIMEZONE
TZID:Europe/Budapest
BEGIN:DAYLIGHT
TZOFFSETFROM:+0100
TZOFFSETTO:+0200
TZNAME:CEST
DTSTART:20250330T010000
END:DAYLIGHT
BEGIN:STANDARD
TZOFFSETFROM:+0200
TZOFFSETTO:+0100
TZNAME:CET
DTSTART:20251026T010000
END:STANDARD
BEGIN:DAYLIGHT
TZOFFSETFROM:+0100
TZOFFSETTO:+0200
TZNAME:CEST
DTSTART:20260329T010000
END:DAYLIGHT
BEGIN:STANDARD
TZOFFSETFROM:+0200
TZOFFSETTO:+0100
TZNAME:CET
DTSTART:20261025T010000
END:STANDARD
BEGIN:DAYLIGHT
TZOFFSETFROM:+0100
TZOFFSETTO:+0200
TZNAME:CEST
DTSTART:20270328T010000
END:DAYLIGHT
BEGIN:STANDARD
TZOFFSETFROM:+0200
TZOFFSETTO:+0100
TZNAME:CET
DTSTART:20271031T010000
END:STANDARD
END:VTIMEZONE
BEGIN:VEVENT
DTSTART;TZID=Europe/Budapest:20260619T180000
DTEND;TZID=Europe/Budapest:20260619T200000
DTSTAMP:20260423T005154
CREATED:20260422T091257Z
LAST-MODIFIED:20260422T091257Z
UID:8083-1781892000-1781899200@vetk.hu
SUMMARY:Sauvignon Blanc est – évjáratbemutató
DESCRIPTION:Borkóstoló \nA tematikus est középpontjában a Sauvignon Blanc áll\, több évjáraton keresztül bemutatva. A 6–7 tételes kóstoló egymás után\, jól követhető módon mutatja meg a fajta karakterének változásait\, az érlelés hatását és a stílusbeli különbségeket. \nA meghirdetett borkóstolókon egyéni látogatóként is részt lehet venni. A tematikus estek egy-egy szőlőfajta vagy borvidéki stílus mentén épülnek fel\, így a különbségek egymás után\, érthetően jelennek meg. \n📍 Érseki Palota pince\, Veszprém \nRészvételi díj: 8 500 Ft / fő \nRészvétel: előzetes jelentkezéssel
URL:https://vetk.hu/event/sauvignon-blanc-est-evjaratbemutato/
LOCATION:Érseki Palota\, Veszprém
CATEGORIES:Borkóstoló
END:VEVENT
END:VCALENDAR