BEGIN:VCALENDAR
VERSION:2.0
PRODID:-//Veszprémi Érsekség Turisztikai Központ - ECPv6.15.18//NONSGML v1.0//EN
CALSCALE:GREGORIAN
METHOD:PUBLISH
X-ORIGINAL-URL:https://vetk.hu
X-WR-CALDESC:Események Veszprémi Érsekség Turisztikai Központ
REFRESH-INTERVAL;VALUE=DURATION:PT1H
X-Robots-Tag:noindex
X-PUBLISHED-TTL:PT1H
BEGIN:VTIMEZONE
TZID:Europe/Budapest
BEGIN:DAYLIGHT
TZOFFSETFROM:+0100
TZOFFSETTO:+0200
TZNAME:CEST
DTSTART:20250330T010000
END:DAYLIGHT
BEGIN:STANDARD
TZOFFSETFROM:+0200
TZOFFSETTO:+0100
TZNAME:CET
DTSTART:20251026T010000
END:STANDARD
BEGIN:DAYLIGHT
TZOFFSETFROM:+0100
TZOFFSETTO:+0200
TZNAME:CEST
DTSTART:20260329T010000
END:DAYLIGHT
BEGIN:STANDARD
TZOFFSETFROM:+0200
TZOFFSETTO:+0100
TZNAME:CET
DTSTART:20261025T010000
END:STANDARD
BEGIN:DAYLIGHT
TZOFFSETFROM:+0100
TZOFFSETTO:+0200
TZNAME:CEST
DTSTART:20270328T010000
END:DAYLIGHT
BEGIN:STANDARD
TZOFFSETFROM:+0200
TZOFFSETTO:+0100
TZNAME:CET
DTSTART:20271031T010000
END:STANDARD
END:VTIMEZONE
BEGIN:VEVENT
DTSTART;TZID=Europe/Budapest:20260419T100000
DTEND;TZID=Europe/Budapest:20260419T180000
DTSTAMP:20260423T000828
CREATED:20260311T141949Z
LAST-MODIFIED:20260311T141949Z
UID:7031-1776592800-1776621600@vetk.hu
SUMMARY:Vezetett Várséták 10:30\, 14:00 és 16:00 órakor
DESCRIPTION:Vezetett várséták \nA Biró–Giczey Házból induló vezetett várséták a veszprémi Várnegyed legfontosabb látnivalóit mutatják be: a Szent Mihály Főszékesegyházat\, a Gizella Kápolnát\, a Szent György Kápolnát és az Érseki Palotát. \n10:30 – Érseki Palota és Gizella-kápolna\n14:00 – Érseki Palota és Gizella-kápolna\n16:00 – Szent Mihály Főszékesegyház\, altemplom és Szent György-kápolna \n📍 Indulás: Biró–Giczey Ház (Vár utca 31.)\n🎟 Jegyvásárlás és információ: a Biró–Giczey Ház ajándékboltjában\n👥 Csoportlétszám: legfeljebb 25 fő \nA programok egyes időpontokban liturgikus események vagy egyéb rendezvények miatt változhatnak. \nNagyobb létszámú vagy idegen nyelvű csoportok számára a részvétel előzetes bejelentkezéshez kötött; jelentkezni az alábbi elérhetőségek egyikén lehet. \n☎ +36 20 560 2010\n✉ turizmus@veszpremiersekseg.hu \n  \nKiállítások a Biró–Giczey Házban \nA kiállítások látogatása díjmentes. \nBogáncs és liliom – Magdolnák virágai – Mária Magdolna alakja a művészetben és a hit hagyományában. \n„Kamrakiállítás” – Barokk kori tárgyak\, történetek és képek a Főszékesegyház múltjából. \n„Nem káptalan a fejem” – A veszprémi káptalan és a kanonokok világa interaktív elemekkel. \nRégészeti leletek a várból – Feltárások kincsei a padlástérben. \nKanonoki kert – A csend és elmélkedés helye. \nAjándékbolt – Emlékek és apró kincsek útravalónak. \n  \nNyitvatartás \nkedd–vasárnap: 10:00–18:00\nhétfő: szünnap
URL:https://vetk.hu/event/vezetett-varsetak-1030-1400-es-1600-orakor-10/
LOCATION:Biró-Giczey Ház\, Vár utca 31.\, Veszprém\, Veszprém\, 8200\, Magyarország
CATEGORIES:vezetett várséta
ATTACH;FMTTYPE=image/jpeg:https://vetk.hu/wp-content/uploads/2026/02/Vezetett-setak_A4_allo_page-0001.jpg
ORGANIZER;CN="Veszpr%C3%A9mi %C3%89rseki Turisztikai K%C3%B6zpont":MAILTO:turizmus@veszpremiersekseg.hu
END:VEVENT
BEGIN:VEVENT
DTSTART;TZID=Europe/Budapest:20260426T100000
DTEND;TZID=Europe/Budapest:20260426T180000
DTSTAMP:20260423T000828
CREATED:20260311T143245Z
LAST-MODIFIED:20260421T125239Z
UID:7038-1777197600-1777226400@vetk.hu
SUMMARY:Vezetett Várséták 10:30 és 16:00 órakor
DESCRIPTION:Április 25–26-án Veszprémben rendezik meg az Építészet Ünnepe és Éjszakája 2026 programsorozatot.Ezen a napon a Biró–Giczey Házból  a 10:30 és 16:00 órás vezetett várséta indul. A program tematikája nem változik. \nRészletek:https://www.epiteszetejszakaja.hu/veszpr%C3%A9m \n10:30 – Érseki Palota és Gizella-kápolna\n16:00 – Érseki Palota és Gizella-kápolna \n📍 Indulás: Biró–Giczey Ház (Vár utca 31.)\n🎟 Jegyvásárlás és információ: a Biró–Giczey Ház ajándékboltjában\n👥 Csoportlétszám: legfeljebb 25 fő \nA programok egyes időpontokban liturgikus események vagy egyéb rendezvények miatt változhatnak. \nNagyobb létszámú vagy idegen nyelvű csoportok számára a részvétel előzetes bejelentkezéshez kötött; jelentkezni az alábbi elérhetőségek egyikén lehet. \n☎ +36 20 560 2010\n✉ turizmus@veszpremiersekseg.hu \n  \nKiállítások a Biró–Giczey Házban \nA kiállítások látogatása díjmentes. \nBogáncs és liliom – Magdolnák virágai – Mária Magdolna alakja a művészetben és a hit hagyományában. \n„Kamrakiállítás” – Barokk kori tárgyak\, történetek és képek a Főszékesegyház múltjából. \n„Nem káptalan a fejem” – A veszprémi káptalan és a kanonokok világa interaktív elemekkel. \nRégészeti leletek a várból – Feltárások kincsei a padlástérben. \nKanonoki kert – A csend és elmélkedés helye. \nAjándékbolt – Emlékek és apró kincsek útravalónak. \n  \nNyitvatartás \nkedd–vasárnap: 10:00–18:00\nhétfő: szünnap
URL:https://vetk.hu/event/vezetett-varsetak-1000-es-1600-orakor/
LOCATION:Biró-Giczey Ház\, Vár utca 31.\, Veszprém\, Veszprém\, 8200\, Magyarország
CATEGORIES:vezetett várséta
ORGANIZER;CN="Veszpr%C3%A9mi %C3%89rseki Turisztikai K%C3%B6zpont":MAILTO:turizmus@veszpremiersekseg.hu
END:VEVENT
BEGIN:VEVENT
DTSTART;TZID=Europe/Budapest:20260501T100000
DTEND;TZID=Europe/Budapest:20260501T180000
DTSTAMP:20260423T000828
CREATED:20260422T123110Z
LAST-MODIFIED:20260422T123301Z
UID:8184-1777629600-1777658400@vetk.hu
SUMMARY:Vezetett Várséták 10:30\, 14:00\, 15:00 és 16:00 órakor
DESCRIPTION:A Biró–Giczey Házból induló vezetett várséták a veszprémi Várnegyed legfontosabb látnivalóit mutatják be: a Szent Mihály Főszékesegyházat\, a Gizella Kápolnát\, a Szent György Kápolnát és az Érseki Palotát. \n\n10:30 – Fény és áhítat sétája: Érseki Palota és Gizella Kápolna\n14:00 – Fény és áhítat sétája: Érseki Palota és Gizella Kápolna\n15.00 – Hit útja I. – szubjektív vezetés dr. Takáts István helynök atyával – ingyenes\, de regisztrációhoz kötött\n16:00 – Ezer év útja: Szent Mihály Főszékesegyház\, altemplom és Szent György Kápolna\n\n📍 Indulás: Biró–Giczey Ház (Vár utca 31.)\n🎟 Jegyvásárlás és információ: a Biró–Giczey Ház ajándékboltjában\n👥 Csoportlétszám: legfeljebb 25 fő \nA programok egyes időpontokban liturgikus események vagy egyéb rendezvények miatt változhatnak. \nNagyobb létszámú vagy idegen nyelvű csoportok számára a részvétel előzetes bejelentkezéshez kötött; jelentkezni az alábbi elérhetőségek egyikén lehet. \n☎ +36 20 560 2010\n✉ turizmus@veszpremiersekseg.hu
URL:https://vetk.hu/event/vezetett-varsetak-a-veszpremi-varnegyedben-erseki-palota-es-foszekesegyhaz/
LOCATION:Biró-Giczey Ház\, Vár utca 31.\, Veszprém\, Veszprém\, 8200\, Magyarország
CATEGORIES:vezetett várséta
ATTACH;FMTTYPE=image/jpeg:https://vetk.hu/wp-content/uploads/2026/04/vezetett-seta-fekvo-JO.jpg
ORGANIZER;CN="Veszpr%C3%A9mi %C3%89rseki Turisztikai K%C3%B6zpont":MAILTO:turizmus@veszpremiersekseg.hu
END:VEVENT
BEGIN:VEVENT
DTSTART;TZID=Europe/Budapest:20260502T100000
DTEND;TZID=Europe/Budapest:20260502T180000
DTSTAMP:20260423T000828
CREATED:20260422T123105Z
LAST-MODIFIED:20260422T123314Z
UID:8186-1777716000-1777744800@vetk.hu
SUMMARY:Vezetett Várséták 10:30\, 14:00 és 16:00 órakor
DESCRIPTION:A Biró–Giczey Házból induló vezetett várséták a veszprémi Várnegyed legfontosabb látnivalóit mutatják be: a Szent Mihály Főszékesegyházat\, a Gizella Kápolnát\, a Szent György Kápolnát és az Érseki Palotát. \n\n10:30 – Fény és áhítat sétája: Érseki Palota és Gizella Kápolna\n14:00 – Fény és áhítat sétája: Érseki Palota és Gizella Kápolna\n16:00 – Ezer év útja: Szent Mihály Főszékesegyház\, altemplom és Szent György Kápolna\n\n📍 Indulás: Biró–Giczey Ház (Vár utca 31.)\n🎟 Jegyvásárlás és információ: a Biró–Giczey Ház ajándékboltjában\n👥 Csoportlétszám: legfeljebb 25 fő \nA programok egyes időpontokban liturgikus események vagy egyéb rendezvények miatt változhatnak. \nNagyobb létszámú vagy idegen nyelvű csoportok számára a részvétel előzetes bejelentkezéshez kötött; jelentkezni az alábbi elérhetőségek egyikén lehet. \n☎ +36 20 560 2010\n✉ turizmus@veszpremiersekseg.hu
URL:https://vetk.hu/event/vezetett-varsetak-a-veszpremi-varnegyedben-erseki-palota-es-foszekesegyhaz-3/
LOCATION:Biró-Giczey Ház\, Vár utca 31.\, Veszprém\, Veszprém\, 8200\, Magyarország
CATEGORIES:vezetett várséta
ATTACH;FMTTYPE=image/jpeg:https://vetk.hu/wp-content/uploads/2026/04/vezetett-seta-fekvo-JO.jpg
ORGANIZER;CN="Veszpr%C3%A9mi %C3%89rseki Turisztikai K%C3%B6zpont":MAILTO:turizmus@veszpremiersekseg.hu
END:VEVENT
BEGIN:VEVENT
DTSTART;TZID=Europe/Budapest:20260503T100000
DTEND;TZID=Europe/Budapest:20260503T180000
DTSTAMP:20260423T000828
CREATED:20260422T123102Z
LAST-MODIFIED:20260422T123332Z
UID:8187-1777802400-1777831200@vetk.hu
SUMMARY:Vezetett Várséták 14:00 és 16:00 órakor
DESCRIPTION:A Biró–Giczey Házból induló vezetett várséták a veszprémi Várnegyed legfontosabb látnivalóit mutatják be: a Szent Mihály Főszékesegyházat\, a Gizella Kápolnát\, a Szent György Kápolnát és az Érseki Palotát. \n\n14:00 – Fény és áhítat sétája: Érseki Palota és Gizella Kápolna\n16:00 – Ezer év útja: Szent Mihály Főszékesegyház\, altemplom és Szent György Kápolna\n\n📍 Indulás: Biró–Giczey Ház (Vár utca 31.)\n🎟 Jegyvásárlás és információ: a Biró–Giczey Ház ajándékboltjában\n👥 Csoportlétszám: legfeljebb 25 fő \nA programok egyes időpontokban liturgikus események vagy egyéb rendezvények miatt változhatnak. \nNagyobb létszámú vagy idegen nyelvű csoportok számára a részvétel előzetes bejelentkezéshez kötött; jelentkezni az alábbi elérhetőségek egyikén lehet. \n☎ +36 20 560 2010\n✉ turizmus@veszpremiersekseg.hu
URL:https://vetk.hu/event/vezetett-varsetak-a-veszpremi-varnegyedben-erseki-palota-es-foszekesegyhaz-2/
LOCATION:Biró-Giczey Ház\, Vár utca 31.\, Veszprém\, Veszprém\, 8200\, Magyarország
CATEGORIES:vezetett várséta
ATTACH;FMTTYPE=image/jpeg:https://vetk.hu/wp-content/uploads/2026/04/vezetett-seta-fekvo-JO.jpg
ORGANIZER;CN="Veszpr%C3%A9mi %C3%89rseki Turisztikai K%C3%B6zpont":MAILTO:turizmus@veszpremiersekseg.hu
END:VEVENT
BEGIN:VEVENT
DTSTART;TZID=Europe/Budapest:20260509T100000
DTEND;TZID=Europe/Budapest:20260509T180000
DTSTAMP:20260423T000828
CREATED:20260422T123058Z
LAST-MODIFIED:20260422T123346Z
UID:8188-1778320800-1778349600@vetk.hu
SUMMARY:Gizella-napi Vezetett Várséta 17:00 órakor
DESCRIPTION:A Biró–Giczey Házból induló vezetett várséták a veszprémi Várnegyed legfontosabb látnivalóit mutatják be: a Szent Mihály Főszékesegyházat\, a Gizella Kápolnát\, a Szent György Kápolnát és az Érseki Palotát. \n17:00 – Fény és áhítat sétája: Érseki Palota és Gizella Kápolna – ingyenes\, de regisztrációhoz kötött \n📍 Indulás: Biró–Giczey Ház (Vár utca 31.)\n🎟 Jegyvásárlás és információ: a Biró–Giczey Ház ajándékboltjában\n👥 Csoportlétszám: legfeljebb 25 fő \nA programok egyes időpontokban liturgikus események vagy egyéb rendezvények miatt változhatnak. \nNagyobb létszámú vagy idegen nyelvű csoportok számára a részvétel előzetes bejelentkezéshez kötött; jelentkezni az alábbi elérhetőségek egyikén lehet. \n☎ +36 20 560 2010\n✉ turizmus@veszpremiersekseg.hu
URL:https://vetk.hu/event/gizella-napi-vezetett-varseta-1700-orakor/
LOCATION:Biró-Giczey Ház\, Vár utca 31.\, Veszprém\, Veszprém\, 8200\, Magyarország
CATEGORIES:vezetett várséta
ATTACH;FMTTYPE=image/jpeg:https://vetk.hu/wp-content/uploads/2026/04/vezetett-seta-fekvo-JO.jpg
ORGANIZER;CN="Veszpr%C3%A9mi %C3%89rseki Turisztikai K%C3%B6zpont":MAILTO:turizmus@veszpremiersekseg.hu
END:VEVENT
BEGIN:VEVENT
DTSTART;TZID=Europe/Budapest:20260510T100000
DTEND;TZID=Europe/Budapest:20260510T180000
DTSTAMP:20260423T000828
CREATED:20260422T123053Z
LAST-MODIFIED:20260422T123401Z
UID:8189-1778407200-1778436000@vetk.hu
SUMMARY:Gizella-napi Vezetett Várséta 10:30 és 14:00 órakor
DESCRIPTION:A Biró–Giczey Házból induló vezetett várséták a veszprémi Várnegyed legfontosabb látnivalóit mutatják be: a Szent Mihály Főszékesegyházat\, a Gizella Kápolnát\, a Szent György Kápolnát és az Érseki Palotát. \n\n10:30 – Fény és áhítat sétája: Érseki Palota és Gizella Kápolna\n14:00 – Fény és áhítat sétája: Érseki Palota és Gizella Kápolna\n\n📍 Indulás: Biró–Giczey Ház (Vár utca 31.)\n🎟 Jegyvásárlás és információ: a Biró–Giczey Ház ajándékboltjában\n👥 Csoportlétszám: legfeljebb 25 fő \nA programok egyes időpontokban liturgikus események vagy egyéb rendezvények miatt változhatnak. \nNagyobb létszámú vagy idegen nyelvű csoportok számára a részvétel előzetes bejelentkezéshez kötött; jelentkezni az alábbi elérhetőségek egyikén lehet. \n☎ +36 20 560 2010\n✉ turizmus@veszpremiersekseg.hu
URL:https://vetk.hu/event/gizella-napi-vezetett-varseta-1030-es-1400-orakor/
LOCATION:Biró-Giczey Ház\, Vár utca 31.\, Veszprém\, Veszprém\, 8200\, Magyarország
CATEGORIES:vezetett várséta
ATTACH;FMTTYPE=image/jpeg:https://vetk.hu/wp-content/uploads/2026/04/vezetett-seta-fekvo-JO.jpg
ORGANIZER;CN="Veszpr%C3%A9mi %C3%89rseki Turisztikai K%C3%B6zpont":MAILTO:turizmus@veszpremiersekseg.hu
END:VEVENT
BEGIN:VEVENT
DTSTART;TZID=Europe/Budapest:20260516T100000
DTEND;TZID=Europe/Budapest:20260516T180000
DTSTAMP:20260423T000828
CREATED:20260422T123543Z
LAST-MODIFIED:20260422T123543Z
UID:8196-1778925600-1778954400@vetk.hu
SUMMARY:Vezetett Várséták 10:30\, 14:00 és 16:00 órakor
DESCRIPTION:A Biró–Giczey Házból induló vezetett várséták a veszprémi Várnegyed legfontosabb látnivalóit mutatják be: a Szent Mihály Főszékesegyházat\, a Gizella Kápolnát\, a Szent György Kápolnát és az Érseki Palotát. \n\n10:30 – Fény és áhítat sétája: Érseki Palota és Gizella Kápolna\n14:00 – Fény és áhítat sétája: Érseki Palota és Gizella Kápolna\n16:00 – Ezer év útja: Szent Mihály Főszékesegyház\, altemplom és Szent György Kápolna\n\n📍 Indulás: Biró–Giczey Ház (Vár utca 31.)\n🎟 Jegyvásárlás és információ: a Biró–Giczey Ház ajándékboltjában\n👥 Csoportlétszám: legfeljebb 25 fő \nA programok egyes időpontokban liturgikus események vagy egyéb rendezvények miatt változhatnak. \nNagyobb létszámú vagy idegen nyelvű csoportok számára a részvétel előzetes bejelentkezéshez kötött; jelentkezni az alábbi elérhetőségek egyikén lehet. \n☎ +36 20 560 2010\n✉ turizmus@veszpremiersekseg.hu
URL:https://vetk.hu/event/vezetett-varsetak-a-veszpremi-varnegyedben-erseki-palota-es-foszekesegyhaz-4/
LOCATION:Biró-Giczey Ház\, Vár utca 31.\, Veszprém\, Veszprém\, 8200\, Magyarország
CATEGORIES:vezetett várséta
ATTACH;FMTTYPE=image/jpeg:https://vetk.hu/wp-content/uploads/2026/04/vezetett-seta-fekvo-JO.jpg
ORGANIZER;CN="Veszpr%C3%A9mi %C3%89rseki Turisztikai K%C3%B6zpont":MAILTO:turizmus@veszpremiersekseg.hu
END:VEVENT
BEGIN:VEVENT
DTSTART;TZID=Europe/Budapest:20260517T100000
DTEND;TZID=Europe/Budapest:20260517T180000
DTSTAMP:20260423T000828
CREATED:20260422T123809Z
LAST-MODIFIED:20260422T124151Z
UID:8199-1779012000-1779040800@vetk.hu
SUMMARY:Vezetett Várséták 10:30\, 14:00 és 16:00 órakor
DESCRIPTION:A Biró–Giczey Házból induló vezetett várséták a veszprémi Várnegyed legfontosabb látnivalóit mutatják be: a Szent Mihály Főszékesegyházat\, a Gizella Kápolnát\, a Szent György Kápolnát és az Érseki Palotát. \n\n10:30 – Fény és áhítat sétája: Érseki Palota és Gizella Kápolna\n14:00 – Fény és áhítat sétája: Érseki Palota és Gizella Kápolna\n16:00 – Ezer év útja: Szent Mihály Főszékesegyház\, altemplom és Szent György Kápolna\n\n📍 Indulás: Biró–Giczey Ház (Vár utca 31.)\n🎟 Jegyvásárlás és információ: a Biró–Giczey Ház ajándékboltjában\n👥 Csoportlétszám: legfeljebb 25 fő \nA programok egyes időpontokban liturgikus események vagy egyéb rendezvények miatt változhatnak. \nNagyobb létszámú vagy idegen nyelvű csoportok számára a részvétel előzetes bejelentkezéshez kötött; jelentkezni az alábbi elérhetőségek egyikén lehet. \n☎ +36 20 560 2010\n✉ turizmus@veszpremiersekseg.hu
URL:https://vetk.hu/event/vezetett-varsetak-a-veszpremi-varnegyedben-erseki-palota-es-foszekesegyhaz-5/
LOCATION:Biró-Giczey Ház\, Vár utca 31.\, Veszprém\, Veszprém\, 8200\, Magyarország
CATEGORIES:vezetett várséta
ATTACH;FMTTYPE=image/jpeg:https://vetk.hu/wp-content/uploads/2026/04/vezetett-seta-fekvo-JO.jpg
ORGANIZER;CN="Veszpr%C3%A9mi %C3%89rseki Turisztikai K%C3%B6zpont":MAILTO:turizmus@veszpremiersekseg.hu
END:VEVENT
BEGIN:VEVENT
DTSTART;TZID=Europe/Budapest:20260523T100000
DTEND;TZID=Europe/Budapest:20260523T180000
DTSTAMP:20260423T000828
CREATED:20260422T124238Z
LAST-MODIFIED:20260422T124238Z
UID:8201-1779530400-1779559200@vetk.hu
SUMMARY:Vezetett Várséták 10:30 és 14:00 órakor
DESCRIPTION:A Biró–Giczey Házból induló vezetett várséták a veszprémi Várnegyed legfontosabb látnivalóit mutatják be: a Szent Mihály Főszékesegyházat\, a Gizella Kápolnát\, a Szent György Kápolnát és az Érseki Palotát. \n\n10:30 – Fény és áhítat sétája: Érseki Palota és Gizella Kápolna\n14:00 – Fény és áhítat sétája: Érseki Palota és Gizella Kápolna\n\n📍 Indulás: Biró–Giczey Ház (Vár utca 31.)\n🎟 Jegyvásárlás és információ: a Biró–Giczey Ház ajándékboltjában\n👥 Csoportlétszám: legfeljebb 25 fő \nA programok egyes időpontokban liturgikus események vagy egyéb rendezvények miatt változhatnak. \nNagyobb létszámú vagy idegen nyelvű csoportok számára a részvétel előzetes bejelentkezéshez kötött; jelentkezni az alábbi elérhetőségek egyikén lehet. \n☎ +36 20 560 2010\n✉ turizmus@veszpremiersekseg.hu
URL:https://vetk.hu/event/vezetett-varsetak-a-veszpremi-varnegyedben-erseki-palota-es-foszekesegyhaz-6/
LOCATION:Biró-Giczey Ház\, Vár utca 31.\, Veszprém\, Veszprém\, 8200\, Magyarország
CATEGORIES:vezetett várséta
ATTACH;FMTTYPE=image/jpeg:https://vetk.hu/wp-content/uploads/2026/04/vezetett-seta-fekvo-JO.jpg
ORGANIZER;CN="Veszpr%C3%A9mi %C3%89rseki Turisztikai K%C3%B6zpont":MAILTO:turizmus@veszpremiersekseg.hu
END:VEVENT
BEGIN:VEVENT
DTSTART;TZID=Europe/Budapest:20260524T100000
DTEND;TZID=Europe/Budapest:20260524T180000
DTSTAMP:20260423T000828
CREATED:20260422T124442Z
LAST-MODIFIED:20260422T124442Z
UID:8205-1779616800-1779645600@vetk.hu
SUMMARY:Vezetett Várséták 10:30\, 14:00 és 16:00 órakor
DESCRIPTION:A Biró–Giczey Házból induló vezetett várséták a veszprémi Várnegyed legfontosabb látnivalóit mutatják be: a Szent Mihály Főszékesegyházat\, a Gizella Kápolnát\, a Szent György Kápolnát és az Érseki Palotát. \n\n10:30 – Fény és áhítat sétája: Érseki Palota és Gizella Kápolna\n14:00 – Fény és áhítat sétája: Érseki Palota és Gizella Kápolna\n16:00 – Ezer év útja: Szent Mihály Főszékesegyház\, altemplom és Szent György Kápolna\n\n📍 Indulás: Biró–Giczey Ház (Vár utca 31.)\n🎟 Jegyvásárlás és információ: a Biró–Giczey Ház ajándékboltjában\n👥 Csoportlétszám: legfeljebb 25 fő \nA programok egyes időpontokban liturgikus események vagy egyéb rendezvények miatt változhatnak. \nNagyobb létszámú vagy idegen nyelvű csoportok számára a részvétel előzetes bejelentkezéshez kötött; jelentkezni az alábbi elérhetőségek egyikén lehet. \n☎ +36 20 560 2010\n✉ turizmus@veszpremiersekseg.hu
URL:https://vetk.hu/event/vezetett-varsetak-a-veszpremi-varnegyedben-erseki-palota-es-foszekesegyhaz-7/
LOCATION:Biró-Giczey Ház\, Vár utca 31.\, Veszprém\, Veszprém\, 8200\, Magyarország
CATEGORIES:vezetett várséta
ATTACH;FMTTYPE=image/jpeg:https://vetk.hu/wp-content/uploads/2026/04/vezetett-seta-fekvo-JO.jpg
ORGANIZER;CN="Veszpr%C3%A9mi %C3%89rseki Turisztikai K%C3%B6zpont":MAILTO:turizmus@veszpremiersekseg.hu
END:VEVENT
BEGIN:VEVENT
DTSTART;TZID=Europe/Budapest:20260525T100000
DTEND;TZID=Europe/Budapest:20260525T180000
DTSTAMP:20260423T000828
CREATED:20260422T124620Z
LAST-MODIFIED:20260422T124641Z
UID:8207-1779703200-1779732000@vetk.hu
SUMMARY:Vezetett Várséták 10:30\, 14:00 és 16:00 órakor
DESCRIPTION:A Biró–Giczey Házból induló vezetett várséták a veszprémi Várnegyed legfontosabb látnivalóit mutatják be: a Szent Mihály Főszékesegyházat\, a Gizella Kápolnát\, a Szent György Kápolnát és az Érseki Palotát. \n\n10:30 – Fény és áhítat sétája: Érseki Palota és Gizella Kápolna\n14:00 – Fény és áhítat sétája: Érseki Palota és Gizella Kápolna\n16:00 – Ezer év útja: Szent Mihály Főszékesegyház\, altemplom és Szent György Kápolna\n\n📍 Indulás: Biró–Giczey Ház (Vár utca 31.)\n🎟 Jegyvásárlás és információ: a Biró–Giczey Ház ajándékboltjában\n👥 Csoportlétszám: legfeljebb 25 fő \nA programok egyes időpontokban liturgikus események vagy egyéb rendezvények miatt változhatnak. \nNagyobb létszámú vagy idegen nyelvű csoportok számára a részvétel előzetes bejelentkezéshez kötött; jelentkezni az alábbi elérhetőségek egyikén lehet. \n☎ +36 20 560 2010\n✉ turizmus@veszpremiersekseg.hu
URL:https://vetk.hu/event/vezetett-varsetak-a-veszpremi-varnegyedben-erseki-palota-es-foszekesegyhaz-8/
LOCATION:Biró-Giczey Ház\, Vár utca 31.\, Veszprém\, Veszprém\, 8200\, Magyarország
CATEGORIES:vezetett várséta
ATTACH;FMTTYPE=image/jpeg:https://vetk.hu/wp-content/uploads/2026/04/vezetett-seta-fekvo-JO.jpg
ORGANIZER;CN="Veszpr%C3%A9mi %C3%89rseki Turisztikai K%C3%B6zpont":MAILTO:turizmus@veszpremiersekseg.hu
END:VEVENT
BEGIN:VEVENT
DTSTART;TZID=Europe/Budapest:20260530T100000
DTEND;TZID=Europe/Budapest:20260530T180000
DTSTAMP:20260423T000828
CREATED:20260422T124859Z
LAST-MODIFIED:20260422T124919Z
UID:8209-1780135200-1780164000@vetk.hu
SUMMARY:Vezetett Várséta 10:30-kor
DESCRIPTION:A Biró–Giczey Házból induló vezetett várséták a veszprémi Várnegyed legfontosabb látnivalóit mutatják be: a Szent Mihály Főszékesegyházat\, a Gizella Kápolnát\, a Szent György Kápolnát és az Érseki Palotát. \n\n10:30 – Fény és áhítat sétája: Érseki Palota és Gizella Kápolna\n\n📍 Indulás: Biró–Giczey Ház (Vár utca 31.)\n🎟 Jegyvásárlás és információ: a Biró–Giczey Ház ajándékboltjában\n👥 Csoportlétszám: legfeljebb 25 fő \nA programok egyes időpontokban liturgikus események vagy egyéb rendezvények miatt változhatnak. \nNagyobb létszámú vagy idegen nyelvű csoportok számára a részvétel előzetes bejelentkezéshez kötött; jelentkezni az alábbi elérhetőségek egyikén lehet. \n☎ +36 20 560 2010\n✉ turizmus@veszpremiersekseg.hu
URL:https://vetk.hu/event/vezetett-varsetak-a-veszpremi-varnegyedben-erseki-palota-es-foszekesegyhaz-9/
LOCATION:Biró-Giczey Ház\, Vár utca 31.\, Veszprém\, Veszprém\, 8200\, Magyarország
CATEGORIES:vezetett várséta
ATTACH;FMTTYPE=image/jpeg:https://vetk.hu/wp-content/uploads/2026/04/vezetett-seta-fekvo-JO.jpg
ORGANIZER;CN="Veszpr%C3%A9mi %C3%89rseki Turisztikai K%C3%B6zpont":MAILTO:turizmus@veszpremiersekseg.hu
END:VEVENT
BEGIN:VEVENT
DTSTART;TZID=Europe/Budapest:20260531T100000
DTEND;TZID=Europe/Budapest:20260531T180000
DTSTAMP:20260423T000828
CREATED:20260422T125037Z
LAST-MODIFIED:20260422T125037Z
UID:8211-1780221600-1780250400@vetk.hu
SUMMARY:Vezetett Várséták 10:30\, 14:00 és 16:00 órakor
DESCRIPTION:A Biró–Giczey Házból induló vezetett várséták a veszprémi Várnegyed legfontosabb látnivalóit mutatják be: a Szent Mihály Főszékesegyházat\, a Gizella Kápolnát\, a Szent György Kápolnát és az Érseki Palotát. \n\n10:30 – Fény és áhítat sétája: Érseki Palota és Gizella Kápolna\n14:00 – Fény és áhítat sétája: Érseki Palota és Gizella Kápolna\n16:00 – Ezer év útja: Szent Mihály Főszékesegyház\, altemplom és Szent György Kápolna\n\n📍 Indulás: Biró–Giczey Ház (Vár utca 31.)\n🎟 Jegyvásárlás és információ: a Biró–Giczey Ház ajándékboltjában\n👥 Csoportlétszám: legfeljebb 25 fő \nA programok egyes időpontokban liturgikus események vagy egyéb rendezvények miatt változhatnak. \nNagyobb létszámú vagy idegen nyelvű csoportok számára a részvétel előzetes bejelentkezéshez kötött; jelentkezni az alábbi elérhetőségek egyikén lehet. \n☎ +36 20 560 2010\n✉ turizmus@veszpremiersekseg.hu
URL:https://vetk.hu/event/vezetett-varsetak-a-veszpremi-varnegyedben-erseki-palota-es-foszekesegyhaz-10/
LOCATION:Biró-Giczey Ház\, Vár utca 31.\, Veszprém\, Veszprém\, 8200\, Magyarország
CATEGORIES:vezetett várséta
ATTACH;FMTTYPE=image/jpeg:https://vetk.hu/wp-content/uploads/2026/04/vezetett-seta-fekvo-JO.jpg
ORGANIZER;CN="Veszpr%C3%A9mi %C3%89rseki Turisztikai K%C3%B6zpont":MAILTO:turizmus@veszpremiersekseg.hu
END:VEVENT
END:VCALENDAR