BEGIN:VCALENDAR
VERSION:2.0
PRODID:-//Veszprémi Érsekség Turisztikai Központ - ECPv6.15.18//NONSGML v1.0//EN
CALSCALE:GREGORIAN
METHOD:PUBLISH
X-WR-CALNAME:Veszprémi Érsekség Turisztikai Központ
X-ORIGINAL-URL:https://vetk.hu
X-WR-CALDESC:Események Veszprémi Érsekség Turisztikai Központ
REFRESH-INTERVAL;VALUE=DURATION:PT1H
X-Robots-Tag:noindex
X-PUBLISHED-TTL:PT1H
BEGIN:VTIMEZONE
TZID:Europe/Budapest
BEGIN:DAYLIGHT
TZOFFSETFROM:+0100
TZOFFSETTO:+0200
TZNAME:CEST
DTSTART:20230326T010000
END:DAYLIGHT
BEGIN:STANDARD
TZOFFSETFROM:+0200
TZOFFSETTO:+0100
TZNAME:CET
DTSTART:20231029T010000
END:STANDARD
BEGIN:DAYLIGHT
TZOFFSETFROM:+0100
TZOFFSETTO:+0200
TZNAME:CEST
DTSTART:20240331T010000
END:DAYLIGHT
BEGIN:STANDARD
TZOFFSETFROM:+0200
TZOFFSETTO:+0100
TZNAME:CET
DTSTART:20241027T010000
END:STANDARD
BEGIN:DAYLIGHT
TZOFFSETFROM:+0100
TZOFFSETTO:+0200
TZNAME:CEST
DTSTART:20250330T010000
END:DAYLIGHT
BEGIN:STANDARD
TZOFFSETFROM:+0200
TZOFFSETTO:+0100
TZNAME:CET
DTSTART:20251026T010000
END:STANDARD
END:VTIMEZONE
BEGIN:VEVENT
DTSTART;TZID=Europe/Budapest:20240324T150000
DTEND;TZID=Europe/Budapest:20240324T183000
DTSTAMP:20260419T181852
CREATED:20240321T105208Z
LAST-MODIFIED:20240321T105208Z
UID:3470-1711292400-1711305000@vetk.hu
SUMMARY:Virágvasárnapi Élő Passió
DESCRIPTION:Az idén másodszor élhetjük át Jézus Krisztus szenvedéstörténetét március 24-én\, virágvasárnap 15 órakor Veszprémben a Margit-romoktól indulva a Benedek-hegyig. Szeretettel hívjuk az érdeklődőket\, hogy megtapasztaljuk Krisztus üdvözítő szeretetét és tanúságot tegyünk róla. \nTisztelettel felhívjuk a figyelmet\, hogy az esemény helyszíne nem akadálymentesített. A rendezvényen mindenki a saját felelősségére vesz részt\, amelyen kép- és hangfelvétel készül. A részvétel ennek automatikus elfogadásával jár.
URL:https://vetk.hu/event/viragvasarnapi-elo-passio/
CATEGORIES:családos program,egyéb lelkiség/kulturális,ingyenes,lelkiségi program mindenkinek
ATTACH;FMTTYPE=image/jpeg:https://vetk.hu/wp-content/uploads/2024/03/passio24_plakat-scaled-1.jpg
END:VEVENT
END:VCALENDAR