BEGIN:VCALENDAR
VERSION:2.0
PRODID:-//Veszprémi Érsekség Turisztikai Központ - ECPv6.15.18//NONSGML v1.0//EN
CALSCALE:GREGORIAN
METHOD:PUBLISH
X-WR-CALNAME:Veszprémi Érsekség Turisztikai Központ
X-ORIGINAL-URL:https://vetk.hu
X-WR-CALDESC:Események Veszprémi Érsekség Turisztikai Központ
REFRESH-INTERVAL;VALUE=DURATION:PT1H
X-Robots-Tag:noindex
X-PUBLISHED-TTL:PT1H
BEGIN:VTIMEZONE
TZID:Europe/Budapest
BEGIN:DAYLIGHT
TZOFFSETFROM:+0100
TZOFFSETTO:+0200
TZNAME:CEST
DTSTART:20230326T010000
END:DAYLIGHT
BEGIN:STANDARD
TZOFFSETFROM:+0200
TZOFFSETTO:+0100
TZNAME:CET
DTSTART:20231029T010000
END:STANDARD
BEGIN:DAYLIGHT
TZOFFSETFROM:+0100
TZOFFSETTO:+0200
TZNAME:CEST
DTSTART:20240331T010000
END:DAYLIGHT
BEGIN:STANDARD
TZOFFSETFROM:+0200
TZOFFSETTO:+0100
TZNAME:CET
DTSTART:20241027T010000
END:STANDARD
BEGIN:DAYLIGHT
TZOFFSETFROM:+0100
TZOFFSETTO:+0200
TZNAME:CEST
DTSTART:20250330T010000
END:DAYLIGHT
BEGIN:STANDARD
TZOFFSETFROM:+0200
TZOFFSETTO:+0100
TZNAME:CET
DTSTART:20251026T010000
END:STANDARD
END:VTIMEZONE
BEGIN:VEVENT
DTSTART;TZID=Europe/Budapest:20241102T100000
DTEND;TZID=Europe/Budapest:20241102T180000
DTSTAMP:20260422T052613
CREATED:20241022T123450Z
LAST-MODIFIED:20241022T123450Z
UID:4667-1730541600-1730570400@vetk.hu
SUMMARY:WIP’24 várséta: 11:30\, 14 és 16 órakor
DESCRIPTION:A túrahelyszínek és a szabadon látogatható helyszínek igazodnak a munkálatokhoz.\n\n\n\nA kiállítások megtekintése és a túravezetés díjmentes\, de regisztrációhoz kötött. \nRegisztráció: \nSegítség a regisztrációhoz: 📲\nAzon kedves vendégeink\, akik nem regisztrálnak\, érkezési sorrendben és hely függvényében vehetnek részt a túráinkon.\n\n\n\n\nA Biró-Giczey Ház kiállításai:\nHÉTFŐ: ZÁRVA\nKEDD-PÉNTEK 17:00-19:00\nSZOMBAT-VASÁRNAP 10:00-18:00\n\nKamrakiállítás – a barokk-kori székesegyház titkai\nNem káptalan a fejem kiállítás – mi a stallum? \nRégészeti kiállítás – az első pénzérménk\, a Szent István dénár története\nFreskós szobák – milyen történetet rejtenek a gyönyörű freskók? \nA kanonoki ház kertje – csend és nyugalom. \n\nSzombaton és vasárnap az ajándékbolt is nyitva van\, nézze meg egyedi\, freskó-grafikás termékeinket. \nSzeretettel várunk mindenkit!
URL:https://vetk.hu/event/wip24-varseta-1130-14-es-16-orakor-21/
LOCATION:Biró-Giczey Ház\, Vár utca 31.\, Veszprém\, Veszprém\, 8200\, Magyarország
CATEGORIES:családos program,ingyenes
ATTACH;FMTTYPE=image/jpeg:https://vetk.hu/wp-content/uploads/2024/04/Turisztika-hatterkep.jpg
ORGANIZER;CN="Veszpr%C3%A9mi %C3%89rseki Turisztikai K%C3%B6zpont":MAILTO:turizmus@veszpremiersekseg.hu
END:VEVENT
BEGIN:VEVENT
DTSTART;TZID=Europe/Budapest:20241103T100000
DTEND;TZID=Europe/Budapest:20241103T180000
DTSTAMP:20260422T052613
CREATED:20241022T124053Z
LAST-MODIFIED:20241022T124053Z
UID:4677-1730628000-1730656800@vetk.hu
SUMMARY:WIP’24 várséta: 11:30\, 14 és 16 órakor
DESCRIPTION:A túrahelyszínek és a szabadon látogatható helyszínek igazodnak a munkálatokhoz.\n\n\n\nA kiállítások megtekintése és a túravezetés díjmentes\, de regisztrációhoz kötött. \nRegisztráció: \nSegítség a regisztrációhoz: 📲\nAzon kedves vendégeink\, akik nem regisztrálnak\, érkezési sorrendben és hely függvényében vehetnek részt a túráinkon.\n\n\n\n\nA Biró-Giczey Ház kiállításai:\nHÉTFŐ: ZÁRVA\nKEDD-PÉNTEK 17:00-19:00\nSZOMBAT-VASÁRNAP 10:00-18:00\n\nKamrakiállítás – a barokk-kori székesegyház titkai\nNem káptalan a fejem kiállítás – mi a stallum? \nRégészeti kiállítás – az első pénzérménk\, a Szent István dénár története\nFreskós szobák – milyen történetet rejtenek a gyönyörű freskók? \nA kanonoki ház kertje – csend és nyugalom. \n\nSzombaton és vasárnap az ajándékbolt is nyitva van\, nézze meg egyedi\, freskó-grafikás termékeinket. \nSzeretettel várunk mindenkit!
URL:https://vetk.hu/event/wip24-varseta-1130-14-es-16-orakor-22/
LOCATION:Biró-Giczey Ház\, Vár utca 31.\, Veszprém\, Veszprém\, 8200\, Magyarország
CATEGORIES:családos program,ingyenes
ATTACH;FMTTYPE=image/jpeg:https://vetk.hu/wp-content/uploads/2024/04/Turisztika-hatterkep.jpg
ORGANIZER;CN="Veszpr%C3%A9mi %C3%89rseki Turisztikai K%C3%B6zpont":MAILTO:turizmus@veszpremiersekseg.hu
END:VEVENT
BEGIN:VEVENT
DTSTART;TZID=Europe/Budapest:20241109T100000
DTEND;TZID=Europe/Budapest:20241109T180000
DTSTAMP:20260422T052613
CREATED:20241022T124205Z
LAST-MODIFIED:20241022T124205Z
UID:4679-1731146400-1731175200@vetk.hu
SUMMARY:WIP’24 várséta: 11:30\, 14 és 16 órakor
DESCRIPTION:A túrahelyszínek és a szabadon látogatható helyszínek igazodnak a munkálatokhoz.\n\n\n\nA kiállítások megtekintése és a túravezetés díjmentes\, de regisztrációhoz kötött. \nRegisztráció: \nSegítség a regisztrációhoz: 📲\nAzon kedves vendégeink\, akik nem regisztrálnak\, érkezési sorrendben és hely függvényében vehetnek részt a túráinkon.\n\n\n\n\nA Biró-Giczey Ház kiállításai:\nHÉTFŐ: ZÁRVA\nKEDD-PÉNTEK 17:00-19:00\nSZOMBAT-VASÁRNAP 10:00-18:00\n\nKamrakiállítás – a barokk-kori székesegyház titkai\nNem káptalan a fejem kiállítás – mi a stallum? \nRégészeti kiállítás – az első pénzérménk\, a Szent István dénár története\nFreskós szobák – milyen történetet rejtenek a gyönyörű freskók? \nA kanonoki ház kertje – csend és nyugalom. \n\nSzombaton és vasárnap az ajándékbolt is nyitva van\, nézze meg egyedi\, freskó-grafikás termékeinket. \nSzeretettel várunk mindenkit!
URL:https://vetk.hu/event/wip24-varseta-1130-14-es-16-orakor-23/
LOCATION:Biró-Giczey Ház\, Vár utca 31.\, Veszprém\, Veszprém\, 8200\, Magyarország
CATEGORIES:családos program,ingyenes
ATTACH;FMTTYPE=image/jpeg:https://vetk.hu/wp-content/uploads/2024/04/Turisztika-hatterkep.jpg
ORGANIZER;CN="Veszpr%C3%A9mi %C3%89rseki Turisztikai K%C3%B6zpont":MAILTO:turizmus@veszpremiersekseg.hu
END:VEVENT
BEGIN:VEVENT
DTSTART;TZID=Europe/Budapest:20241110T100000
DTEND;TZID=Europe/Budapest:20241110T180000
DTSTAMP:20260422T052613
CREATED:20241022T124302Z
LAST-MODIFIED:20241022T124302Z
UID:4681-1731232800-1731261600@vetk.hu
SUMMARY:WIP’24 várséta: 11:30\, 14 és 16 órakor
DESCRIPTION:A túrahelyszínek és a szabadon látogatható helyszínek igazodnak a munkálatokhoz.\n\n\n\nA kiállítások megtekintése és a túravezetés díjmentes\, de regisztrációhoz kötött. \nRegisztráció: \nSegítség a regisztrációhoz: 📲\nAzon kedves vendégeink\, akik nem regisztrálnak\, érkezési sorrendben és hely függvényében vehetnek részt a túráinkon.\n\n\n\n\nA Biró-Giczey Ház kiállításai:\nHÉTFŐ: ZÁRVA\nKEDD-PÉNTEK 17:00-19:00\nSZOMBAT-VASÁRNAP 10:00-18:00\n\nKamrakiállítás – a barokk-kori székesegyház titkai\nNem káptalan a fejem kiállítás – mi a stallum? \nRégészeti kiállítás – az első pénzérménk\, a Szent István dénár története\nFreskós szobák – milyen történetet rejtenek a gyönyörű freskók? \nA kanonoki ház kertje – csend és nyugalom. \n\nSzombaton és vasárnap az ajándékbolt is nyitva van\, nézze meg egyedi\, freskó-grafikás termékeinket. \nSzeretettel várunk mindenkit!
URL:https://vetk.hu/event/wip24-varseta-1130-14-es-16-orakor-24/
LOCATION:Biró-Giczey Ház\, Vár utca 31.\, Veszprém\, Veszprém\, 8200\, Magyarország
CATEGORIES:családos program,ingyenes
ATTACH;FMTTYPE=image/jpeg:https://vetk.hu/wp-content/uploads/2024/04/Turisztika-hatterkep.jpg
ORGANIZER;CN="Veszpr%C3%A9mi %C3%89rseki Turisztikai K%C3%B6zpont":MAILTO:turizmus@veszpremiersekseg.hu
END:VEVENT
BEGIN:VEVENT
DTSTART;TZID=Europe/Budapest:20241116T100000
DTEND;TZID=Europe/Budapest:20241116T180000
DTSTAMP:20260422T052613
CREATED:20241022T124422Z
LAST-MODIFIED:20241022T124422Z
UID:4683-1731751200-1731780000@vetk.hu
SUMMARY:WIP’24 várséta: 11:30\, 14 és 16 órakor
DESCRIPTION:A túrahelyszínek és a szabadon látogatható helyszínek igazodnak a munkálatokhoz.\n\n\n\nA kiállítások megtekintése és a túravezetés díjmentes\, de regisztrációhoz kötött. \nRegisztráció: \nSegítség a regisztrációhoz: 📲\nAzon kedves vendégeink\, akik nem regisztrálnak\, érkezési sorrendben és hely függvényében vehetnek részt a túráinkon.\n\n\n\n\nA Biró-Giczey Ház kiállításai:\nHÉTFŐ: ZÁRVA\nKEDD-PÉNTEK 17:00-19:00\nSZOMBAT-VASÁRNAP 10:00-18:00\n\nKamrakiállítás – a barokk-kori székesegyház titkai\nNem káptalan a fejem kiállítás – mi a stallum? \nRégészeti kiállítás – az első pénzérménk\, a Szent István dénár története\nFreskós szobák – milyen történetet rejtenek a gyönyörű freskók? \nA kanonoki ház kertje – csend és nyugalom. \n\nSzombaton és vasárnap az ajándékbolt is nyitva van\, nézze meg egyedi\, freskó-grafikás termékeinket. \nSzeretettel várunk mindenkit!
URL:https://vetk.hu/event/wip24-varseta-1130-14-es-16-orakor-25/
LOCATION:Biró-Giczey Ház\, Vár utca 31.\, Veszprém\, Veszprém\, 8200\, Magyarország
CATEGORIES:családos program,ingyenes
ATTACH;FMTTYPE=image/jpeg:https://vetk.hu/wp-content/uploads/2024/04/Turisztika-hatterkep.jpg
ORGANIZER;CN="Veszpr%C3%A9mi %C3%89rseki Turisztikai K%C3%B6zpont":MAILTO:turizmus@veszpremiersekseg.hu
END:VEVENT
BEGIN:VEVENT
DTSTART;TZID=Europe/Budapest:20241117T080000
DTEND;TZID=Europe/Budapest:20241117T170000
DTSTAMP:20260422T052613
CREATED:20241022T124527Z
LAST-MODIFIED:20241022T124527Z
UID:4685-1731830400-1731862800@vetk.hu
SUMMARY:WIP’24 várséta: 11:30\, 14 és 16 órakor
DESCRIPTION:A túrahelyszínek és a szabadon látogatható helyszínek igazodnak a munkálatokhoz.\n\n\n\nA kiállítások megtekintése és a túravezetés díjmentes\, de regisztrációhoz kötött. \nRegisztráció: \nSegítség a regisztrációhoz: 📲\nAzon kedves vendégeink\, akik nem regisztrálnak\, érkezési sorrendben és hely függvényében vehetnek részt a túráinkon.\n\n\n\n\nA Biró-Giczey Ház kiállításai:\nHÉTFŐ: ZÁRVA\nKEDD-PÉNTEK 17:00-19:00\nSZOMBAT-VASÁRNAP 10:00-18:00\n\nKamrakiállítás – a barokk-kori székesegyház titkai\nNem káptalan a fejem kiállítás – mi a stallum? \nRégészeti kiállítás – az első pénzérménk\, a Szent István dénár története\nFreskós szobák – milyen történetet rejtenek a gyönyörű freskók? \nA kanonoki ház kertje – csend és nyugalom. \n\nSzombaton és vasárnap az ajándékbolt is nyitva van\, nézze meg egyedi\, freskó-grafikás termékeinket. \nSzeretettel várunk mindenkit!
URL:https://vetk.hu/event/wip24-varseta-1130-14-es-16-orakor-26/
LOCATION:Biró-Giczey Ház\, Vár utca 31.\, Veszprém\, Veszprém\, 8200\, Magyarország
CATEGORIES:családos program,ingyenes
ATTACH;FMTTYPE=image/jpeg:https://vetk.hu/wp-content/uploads/2024/04/Turisztika-hatterkep.jpg
ORGANIZER;CN="Veszpr%C3%A9mi %C3%89rseki Turisztikai K%C3%B6zpont":MAILTO:turizmus@veszpremiersekseg.hu
END:VEVENT
BEGIN:VEVENT
DTSTART;TZID=Europe/Budapest:20241123T100000
DTEND;TZID=Europe/Budapest:20241123T180000
DTSTAMP:20260422T052613
CREATED:20241022T124901Z
LAST-MODIFIED:20241022T124901Z
UID:4687-1732356000-1732384800@vetk.hu
SUMMARY:WIP’24 várséta: 14 és 16 órakor
DESCRIPTION:Az ezen a napon megszokott 11:30-kor kezdődő túra nem indul.\n\nA túrahelyszínek és a szabadon látogatható helyszínek igazodnak a munkálatokhoz.\n\n\n\nA kiállítások megtekintése és a túravezetés díjmentes\, de regisztrációhoz kötött. \nRegisztráció: \nSegítség a regisztrációhoz: 📲\nAzon kedves vendégeink\, akik nem regisztrálnak\, érkezési sorrendben és hely függvényében vehetnek részt a túráinkon.\n\n\n\n\nA Biró-Giczey Ház kiállításai:\nHÉTFŐ: ZÁRVA\nKEDD-PÉNTEK 17:00-19:00\nSZOMBAT-VASÁRNAP 10:00-18:00\n\nKamrakiállítás – a barokk-kori székesegyház titkai\nNem káptalan a fejem kiállítás – mi a stallum? \nRégészeti kiállítás – az első pénzérménk\, a Szent István dénár története\nFreskós szobák – milyen történetet rejtenek a gyönyörű freskók? \nA kanonoki ház kertje – csend és nyugalom. \n\nSzombaton és vasárnap az ajándékbolt is nyitva van\, nézze meg egyedi\, freskó-grafikás termékeinket. \nSzeretettel várunk mindenkit!
URL:https://vetk.hu/event/wip24-varseta-14-es-16-orakor-3/
LOCATION:Biró-Giczey Ház\, Vár utca 31.\, Veszprém\, Veszprém\, 8200\, Magyarország
CATEGORIES:családos program,ingyenes
ATTACH;FMTTYPE=image/jpeg:https://vetk.hu/wp-content/uploads/2024/04/Turisztika-hatterkep.jpg
ORGANIZER;CN="Veszpr%C3%A9mi %C3%89rseki Turisztikai K%C3%B6zpont":MAILTO:turizmus@veszpremiersekseg.hu
END:VEVENT
BEGIN:VEVENT
DTSTART;TZID=Europe/Budapest:20241124T100000
DTEND;TZID=Europe/Budapest:20241124T180000
DTSTAMP:20260422T052613
CREATED:20241022T124956Z
LAST-MODIFIED:20241022T124956Z
UID:4689-1732442400-1732471200@vetk.hu
SUMMARY:WIP’24 várséta: 11:30\, 14 és 16 órakor
DESCRIPTION:A túrahelyszínek és a szabadon látogatható helyszínek igazodnak a munkálatokhoz.\n\n\n\nA kiállítások megtekintése és a túravezetés díjmentes\, de regisztrációhoz kötött. \nRegisztráció: \nSegítség a regisztrációhoz: 📲\nAzon kedves vendégeink\, akik nem regisztrálnak\, érkezési sorrendben és hely függvényében vehetnek részt a túráinkon.\n\n\n\n\nA Biró-Giczey Ház kiállításai:\nHÉTFŐ: ZÁRVA\nKEDD-PÉNTEK 17:00-19:00\nSZOMBAT-VASÁRNAP 10:00-18:00\n\nKamrakiállítás – a barokk-kori székesegyház titkai\nNem káptalan a fejem kiállítás – mi a stallum? \nRégészeti kiállítás – az első pénzérménk\, a Szent István dénár története\nFreskós szobák – milyen történetet rejtenek a gyönyörű freskók? \nA kanonoki ház kertje – csend és nyugalom. \n\nSzombaton és vasárnap az ajándékbolt is nyitva van\, nézze meg egyedi\, freskó-grafikás termékeinket. \nSzeretettel várunk mindenkit!
URL:https://vetk.hu/event/wip24-varseta-1130-14-es-16-orakor-27/
LOCATION:Biró-Giczey Ház\, Vár utca 31.\, Veszprém\, Veszprém\, 8200\, Magyarország
CATEGORIES:családos program,ingyenes
ATTACH;FMTTYPE=image/jpeg:https://vetk.hu/wp-content/uploads/2024/04/Turisztika-hatterkep.jpg
ORGANIZER;CN="Veszpr%C3%A9mi %C3%89rseki Turisztikai K%C3%B6zpont":MAILTO:turizmus@veszpremiersekseg.hu
END:VEVENT
BEGIN:VEVENT
DTSTART;TZID=Europe/Budapest:20241130T100000
DTEND;TZID=Europe/Budapest:20241130T180000
DTSTAMP:20260422T052613
CREATED:20241022T125111Z
LAST-MODIFIED:20241022T125111Z
UID:4691-1732960800-1732989600@vetk.hu
SUMMARY:WIP’24 várséta: 11:30\, 14 és 16 órakor
DESCRIPTION:A túrahelyszínek és a szabadon látogatható helyszínek igazodnak a munkálatokhoz.\n\n\n\nA kiállítások megtekintése és a túravezetés díjmentes\, de regisztrációhoz kötött. \nRegisztráció: \nSegítség a regisztrációhoz: 📲\nAzon kedves vendégeink\, akik nem regisztrálnak\, érkezési sorrendben és hely függvényében vehetnek részt a túráinkon.\n\n\n\n\nA Biró-Giczey Ház kiállításai:\nHÉTFŐ: ZÁRVA\nKEDD-PÉNTEK 17:00-19:00\nSZOMBAT-VASÁRNAP 10:00-18:00\n\nKamrakiállítás – a barokk-kori székesegyház titkai\nNem káptalan a fejem kiállítás – mi a stallum? \nRégészeti kiállítás – az első pénzérménk\, a Szent István dénár története\nFreskós szobák – milyen történetet rejtenek a gyönyörű freskók? \nA kanonoki ház kertje – csend és nyugalom. \n\nSzombaton és vasárnap az ajándékbolt is nyitva van\, nézze meg egyedi\, freskó-grafikás termékeinket. \nSzeretettel várunk mindenkit!
URL:https://vetk.hu/event/wip24-varseta-1130-14-es-16-orakor-28/
LOCATION:Biró-Giczey Ház\, Vár utca 31.\, Veszprém\, Veszprém\, 8200\, Magyarország
CATEGORIES:családos program,ingyenes
ATTACH;FMTTYPE=image/jpeg:https://vetk.hu/wp-content/uploads/2024/04/Turisztika-hatterkep.jpg
ORGANIZER;CN="Veszpr%C3%A9mi %C3%89rseki Turisztikai K%C3%B6zpont":MAILTO:turizmus@veszpremiersekseg.hu
END:VEVENT
END:VCALENDAR