BEGIN:VCALENDAR
VERSION:2.0
PRODID:-//Veszprémi Érsekség Turisztikai Központ - ECPv6.15.18//NONSGML v1.0//EN
CALSCALE:GREGORIAN
METHOD:PUBLISH
X-WR-CALNAME:Veszprémi Érsekség Turisztikai Központ
X-ORIGINAL-URL:https://vetk.hu
X-WR-CALDESC:Események Veszprémi Érsekség Turisztikai Központ
REFRESH-INTERVAL;VALUE=DURATION:PT1H
X-Robots-Tag:noindex
X-PUBLISHED-TTL:PT1H
BEGIN:VTIMEZONE
TZID:Europe/Budapest
BEGIN:DAYLIGHT
TZOFFSETFROM:+0100
TZOFFSETTO:+0200
TZNAME:CEST
DTSTART:20230326T010000
END:DAYLIGHT
BEGIN:STANDARD
TZOFFSETFROM:+0200
TZOFFSETTO:+0100
TZNAME:CET
DTSTART:20231029T010000
END:STANDARD
BEGIN:DAYLIGHT
TZOFFSETFROM:+0100
TZOFFSETTO:+0200
TZNAME:CEST
DTSTART:20240331T010000
END:DAYLIGHT
BEGIN:STANDARD
TZOFFSETFROM:+0200
TZOFFSETTO:+0100
TZNAME:CET
DTSTART:20241027T010000
END:STANDARD
BEGIN:DAYLIGHT
TZOFFSETFROM:+0100
TZOFFSETTO:+0200
TZNAME:CEST
DTSTART:20250330T010000
END:DAYLIGHT
BEGIN:STANDARD
TZOFFSETFROM:+0200
TZOFFSETTO:+0100
TZNAME:CET
DTSTART:20251026T010000
END:STANDARD
END:VTIMEZONE
BEGIN:VEVENT
DTSTART;VALUE=DATE:20240421
DTEND;VALUE=DATE:20240422
DTSTAMP:20260422T182412
CREATED:20240405T124513Z
LAST-MODIFIED:20240410T111254Z
UID:3533-1713657600-1713743999@vetk.hu
SUMMARY:WIP'24 sisakos túravezetés: 11:30; 14; 16 órakor
DESCRIPTION:Túrahelyszínek: Szent Mihály Főszékesegyház + 1 helyszín. \n\n\n\nA kiállítások megtekintése és a túravezetés díjmentes\, de regisztrációhoz kötött. \nRegisztráció: https://wip2023.hu/turavezetes \nSegítség a regisztrációhoz: https://vetk.hu/…/hogyan-lehet-regisztralni-a-sisakos…/\nAzon kedves vendégeink\, akik nem regisztrálnak\, érkezési sorrendben és hely függvényében vehetnek részt a túráinkon.\n\n\n\n\nBiró-Giczey Ház kiállításai (szo-vas\, 10:00-18:00):\n– „Nem káptalan a fejem” című kiállítás – Honnan ered ez a mondás? \n– Régészeti kiállítás – a várhegy régészeti kutatásából származó különleges leletek. \n– Kanonoki lakosztály – mit ábrázolnak és milyen történetet rejtenek a gyönyörű\nfreskók? \n– A kanonoki ház kertje – csend és nyugalom. \n\n\n\n\nVárunk mindenkit szeretettel!
URL:https://vetk.hu/event/wip24-sisakos-turavezetes-1130-14-16-orakor-6/
LOCATION:Biró-Giczey Ház\, Vár utca 31.\, Veszprém\, Veszprém\, 8200\, Magyarország
CATEGORIES:családos program,ingyenes
ATTACH;FMTTYPE=image/jpeg:https://vetk.hu/wp-content/uploads/2024/04/Turisztika-hatterkep.jpg
ORGANIZER;CN="Veszpr%C3%A9mi %C3%89rseki Turisztikai K%C3%B6zpont":MAILTO:turizmus@veszpremiersekseg.hu
END:VEVENT
END:VCALENDAR