BEGIN:VCALENDAR
VERSION:2.0
PRODID:-//Veszprémi Érsekség Turisztikai Központ - ECPv6.15.18//NONSGML v1.0//EN
CALSCALE:GREGORIAN
METHOD:PUBLISH
X-ORIGINAL-URL:https://vetk.hu
X-WR-CALDESC:Események Veszprémi Érsekség Turisztikai Központ
REFRESH-INTERVAL;VALUE=DURATION:PT1H
X-Robots-Tag:noindex
X-PUBLISHED-TTL:PT1H
BEGIN:VTIMEZONE
TZID:Europe/Budapest
BEGIN:DAYLIGHT
TZOFFSETFROM:+0100
TZOFFSETTO:+0200
TZNAME:CEST
DTSTART:20230326T010000
END:DAYLIGHT
BEGIN:STANDARD
TZOFFSETFROM:+0200
TZOFFSETTO:+0100
TZNAME:CET
DTSTART:20231029T010000
END:STANDARD
BEGIN:DAYLIGHT
TZOFFSETFROM:+0100
TZOFFSETTO:+0200
TZNAME:CEST
DTSTART:20240331T010000
END:DAYLIGHT
BEGIN:STANDARD
TZOFFSETFROM:+0200
TZOFFSETTO:+0100
TZNAME:CET
DTSTART:20241027T010000
END:STANDARD
BEGIN:DAYLIGHT
TZOFFSETFROM:+0100
TZOFFSETTO:+0200
TZNAME:CEST
DTSTART:20250330T010000
END:DAYLIGHT
BEGIN:STANDARD
TZOFFSETFROM:+0200
TZOFFSETTO:+0100
TZNAME:CET
DTSTART:20251026T010000
END:STANDARD
END:VTIMEZONE
BEGIN:VEVENT
DTSTART;TZID=Europe/Budapest:20241117T080000
DTEND;TZID=Europe/Budapest:20241117T170000
DTSTAMP:20260423T001522
CREATED:20241022T124527Z
LAST-MODIFIED:20241022T124527Z
UID:4685-1731830400-1731862800@vetk.hu
SUMMARY:WIP’24 várséta: 11:30\, 14 és 16 órakor
DESCRIPTION:A túrahelyszínek és a szabadon látogatható helyszínek igazodnak a munkálatokhoz.\n\n\n\nA kiállítások megtekintése és a túravezetés díjmentes\, de regisztrációhoz kötött. \nRegisztráció: \nSegítség a regisztrációhoz: 📲\nAzon kedves vendégeink\, akik nem regisztrálnak\, érkezési sorrendben és hely függvényében vehetnek részt a túráinkon.\n\n\n\n\nA Biró-Giczey Ház kiállításai:\nHÉTFŐ: ZÁRVA\nKEDD-PÉNTEK 17:00-19:00\nSZOMBAT-VASÁRNAP 10:00-18:00\n\nKamrakiállítás – a barokk-kori székesegyház titkai\nNem káptalan a fejem kiállítás – mi a stallum? \nRégészeti kiállítás – az első pénzérménk\, a Szent István dénár története\nFreskós szobák – milyen történetet rejtenek a gyönyörű freskók? \nA kanonoki ház kertje – csend és nyugalom. \n\nSzombaton és vasárnap az ajándékbolt is nyitva van\, nézze meg egyedi\, freskó-grafikás termékeinket. \nSzeretettel várunk mindenkit!
URL:https://vetk.hu/event/wip24-varseta-1130-14-es-16-orakor-26/
LOCATION:Biró-Giczey Ház\, Vár utca 31.\, Veszprém\, Veszprém\, 8200\, Magyarország
CATEGORIES:családos program,ingyenes
ATTACH;FMTTYPE=image/jpeg:https://vetk.hu/wp-content/uploads/2024/04/Turisztika-hatterkep.jpg
ORGANIZER;CN="Veszpr%C3%A9mi %C3%89rseki Turisztikai K%C3%B6zpont":MAILTO:turizmus@veszpremiersekseg.hu
END:VEVENT
BEGIN:VEVENT
DTSTART;TZID=Europe/Budapest:20241123T100000
DTEND;TZID=Europe/Budapest:20241123T180000
DTSTAMP:20260423T001522
CREATED:20241022T124901Z
LAST-MODIFIED:20241022T124901Z
UID:4687-1732356000-1732384800@vetk.hu
SUMMARY:WIP’24 várséta: 14 és 16 órakor
DESCRIPTION:Az ezen a napon megszokott 11:30-kor kezdődő túra nem indul.\n\nA túrahelyszínek és a szabadon látogatható helyszínek igazodnak a munkálatokhoz.\n\n\n\nA kiállítások megtekintése és a túravezetés díjmentes\, de regisztrációhoz kötött. \nRegisztráció: \nSegítség a regisztrációhoz: 📲\nAzon kedves vendégeink\, akik nem regisztrálnak\, érkezési sorrendben és hely függvényében vehetnek részt a túráinkon.\n\n\n\n\nA Biró-Giczey Ház kiállításai:\nHÉTFŐ: ZÁRVA\nKEDD-PÉNTEK 17:00-19:00\nSZOMBAT-VASÁRNAP 10:00-18:00\n\nKamrakiállítás – a barokk-kori székesegyház titkai\nNem káptalan a fejem kiállítás – mi a stallum? \nRégészeti kiállítás – az első pénzérménk\, a Szent István dénár története\nFreskós szobák – milyen történetet rejtenek a gyönyörű freskók? \nA kanonoki ház kertje – csend és nyugalom. \n\nSzombaton és vasárnap az ajándékbolt is nyitva van\, nézze meg egyedi\, freskó-grafikás termékeinket. \nSzeretettel várunk mindenkit!
URL:https://vetk.hu/event/wip24-varseta-14-es-16-orakor-3/
LOCATION:Biró-Giczey Ház\, Vár utca 31.\, Veszprém\, Veszprém\, 8200\, Magyarország
CATEGORIES:családos program,ingyenes
ATTACH;FMTTYPE=image/jpeg:https://vetk.hu/wp-content/uploads/2024/04/Turisztika-hatterkep.jpg
ORGANIZER;CN="Veszpr%C3%A9mi %C3%89rseki Turisztikai K%C3%B6zpont":MAILTO:turizmus@veszpremiersekseg.hu
END:VEVENT
BEGIN:VEVENT
DTSTART;TZID=Europe/Budapest:20241124T100000
DTEND;TZID=Europe/Budapest:20241124T180000
DTSTAMP:20260423T001522
CREATED:20241022T124956Z
LAST-MODIFIED:20241022T124956Z
UID:4689-1732442400-1732471200@vetk.hu
SUMMARY:WIP’24 várséta: 11:30\, 14 és 16 órakor
DESCRIPTION:A túrahelyszínek és a szabadon látogatható helyszínek igazodnak a munkálatokhoz.\n\n\n\nA kiállítások megtekintése és a túravezetés díjmentes\, de regisztrációhoz kötött. \nRegisztráció: \nSegítség a regisztrációhoz: 📲\nAzon kedves vendégeink\, akik nem regisztrálnak\, érkezési sorrendben és hely függvényében vehetnek részt a túráinkon.\n\n\n\n\nA Biró-Giczey Ház kiállításai:\nHÉTFŐ: ZÁRVA\nKEDD-PÉNTEK 17:00-19:00\nSZOMBAT-VASÁRNAP 10:00-18:00\n\nKamrakiállítás – a barokk-kori székesegyház titkai\nNem káptalan a fejem kiállítás – mi a stallum? \nRégészeti kiállítás – az első pénzérménk\, a Szent István dénár története\nFreskós szobák – milyen történetet rejtenek a gyönyörű freskók? \nA kanonoki ház kertje – csend és nyugalom. \n\nSzombaton és vasárnap az ajándékbolt is nyitva van\, nézze meg egyedi\, freskó-grafikás termékeinket. \nSzeretettel várunk mindenkit!
URL:https://vetk.hu/event/wip24-varseta-1130-14-es-16-orakor-27/
LOCATION:Biró-Giczey Ház\, Vár utca 31.\, Veszprém\, Veszprém\, 8200\, Magyarország
CATEGORIES:családos program,ingyenes
ATTACH;FMTTYPE=image/jpeg:https://vetk.hu/wp-content/uploads/2024/04/Turisztika-hatterkep.jpg
ORGANIZER;CN="Veszpr%C3%A9mi %C3%89rseki Turisztikai K%C3%B6zpont":MAILTO:turizmus@veszpremiersekseg.hu
END:VEVENT
BEGIN:VEVENT
DTSTART;TZID=Europe/Budapest:20241130T100000
DTEND;TZID=Europe/Budapest:20241130T180000
DTSTAMP:20260423T001522
CREATED:20241022T125111Z
LAST-MODIFIED:20241022T125111Z
UID:4691-1732960800-1732989600@vetk.hu
SUMMARY:WIP’24 várséta: 11:30\, 14 és 16 órakor
DESCRIPTION:A túrahelyszínek és a szabadon látogatható helyszínek igazodnak a munkálatokhoz.\n\n\n\nA kiállítások megtekintése és a túravezetés díjmentes\, de regisztrációhoz kötött. \nRegisztráció: \nSegítség a regisztrációhoz: 📲\nAzon kedves vendégeink\, akik nem regisztrálnak\, érkezési sorrendben és hely függvényében vehetnek részt a túráinkon.\n\n\n\n\nA Biró-Giczey Ház kiállításai:\nHÉTFŐ: ZÁRVA\nKEDD-PÉNTEK 17:00-19:00\nSZOMBAT-VASÁRNAP 10:00-18:00\n\nKamrakiállítás – a barokk-kori székesegyház titkai\nNem káptalan a fejem kiállítás – mi a stallum? \nRégészeti kiállítás – az első pénzérménk\, a Szent István dénár története\nFreskós szobák – milyen történetet rejtenek a gyönyörű freskók? \nA kanonoki ház kertje – csend és nyugalom. \n\nSzombaton és vasárnap az ajándékbolt is nyitva van\, nézze meg egyedi\, freskó-grafikás termékeinket. \nSzeretettel várunk mindenkit!
URL:https://vetk.hu/event/wip24-varseta-1130-14-es-16-orakor-28/
LOCATION:Biró-Giczey Ház\, Vár utca 31.\, Veszprém\, Veszprém\, 8200\, Magyarország
CATEGORIES:családos program,ingyenes
ATTACH;FMTTYPE=image/jpeg:https://vetk.hu/wp-content/uploads/2024/04/Turisztika-hatterkep.jpg
ORGANIZER;CN="Veszpr%C3%A9mi %C3%89rseki Turisztikai K%C3%B6zpont":MAILTO:turizmus@veszpremiersekseg.hu
END:VEVENT
BEGIN:VEVENT
DTSTART;TZID=Europe/Budapest:20241201T100000
DTEND;TZID=Europe/Budapest:20241201T180000
DTSTAMP:20260423T001522
CREATED:20241022T125214Z
LAST-MODIFIED:20241022T125214Z
UID:4693-1733047200-1733076000@vetk.hu
SUMMARY:WIP’24 várséta: 11:30\, 14 és 16 órakor
DESCRIPTION:A túrahelyszínek és a szabadon látogatható helyszínek igazodnak a munkálatokhoz.\n\n\n\nA kiállítások megtekintése és a túravezetés díjmentes\, de regisztrációhoz kötött. \nRegisztráció: \nSegítség a regisztrációhoz: 📲\nAzon kedves vendégeink\, akik nem regisztrálnak\, érkezési sorrendben és hely függvényében vehetnek részt a túráinkon.\n\n\n\n\nA Biró-Giczey Ház kiállításai:\nHÉTFŐ: ZÁRVA\nKEDD-PÉNTEK 17:00-19:00\nSZOMBAT-VASÁRNAP 10:00-18:00\n\nKamrakiállítás – a barokk-kori székesegyház titkai\nNem káptalan a fejem kiállítás – mi a stallum? \nRégészeti kiállítás – az első pénzérménk\, a Szent István dénár története\nFreskós szobák – milyen történetet rejtenek a gyönyörű freskók? \nA kanonoki ház kertje – csend és nyugalom. \n\nSzombaton és vasárnap az ajándékbolt is nyitva van\, nézze meg egyedi\, freskó-grafikás termékeinket. \nSzeretettel várunk mindenkit!
URL:https://vetk.hu/event/wip24-varseta-1130-14-es-16-orakor-29/
LOCATION:Biró-Giczey Ház\, Vár utca 31.\, Veszprém\, Veszprém\, 8200\, Magyarország
CATEGORIES:családos program,ingyenes
ATTACH;FMTTYPE=image/jpeg:https://vetk.hu/wp-content/uploads/2024/04/Turisztika-hatterkep.jpg
ORGANIZER;CN="Veszpr%C3%A9mi %C3%89rseki Turisztikai K%C3%B6zpont":MAILTO:turizmus@veszpremiersekseg.hu
END:VEVENT
BEGIN:VEVENT
DTSTART;TZID=Europe/Budapest:20241207T100000
DTEND;TZID=Europe/Budapest:20241207T180000
DTSTAMP:20260423T001522
CREATED:20241129T090359Z
LAST-MODIFIED:20241129T090359Z
UID:4851-1733565600-1733594400@vetk.hu
SUMMARY:WIP’24 várséta: 11:30 és 14 órakor
DESCRIPTION:A túrahelyszínek és a szabadon látogatható helyszínek igazodnak a munkálatokhoz.\n\n\n\nA kiállítások megtekintése és a túravezetés díjmentes\, de regisztrációhoz kötött. \nRegisztráció: \nSegítség a regisztrációhoz: 📲\nAzon kedves vendégeink\, akik nem regisztrálnak\, érkezési sorrendben és hely függvényében vehetnek részt a túráinkon.\n\n\n\n\nA Biró-Giczey Ház kiállításai:\nHÉTFŐ: ZÁRVA\nKEDD-PÉNTEK 17:00-19:00\nSZOMBAT-VASÁRNAP 10:00-18:00\n\nKamrakiállítás – a barokk-kori székesegyház titkai\nNem káptalan a fejem kiállítás – mi a stallum? \nRégészeti kiállítás – az első pénzérménk\, a Szent István dénár története\nFreskós szobák – milyen történetet rejtenek a gyönyörű freskók? \nA kanonoki ház kertje – csend és nyugalom. \n\nSzombaton és vasárnap az ajándékbolt is nyitva van\, nézze meg egyedi\, freskó-grafikás termékeinket. \nSzeretettel várunk mindenkit!
URL:https://vetk.hu/event/wip24-varseta-1130-es-14-orakor-3/
LOCATION:Biró-Giczey Ház\, Vár utca 31.\, Veszprém\, Veszprém\, 8200\, Magyarország
CATEGORIES:családos program,ingyenes
ATTACH;FMTTYPE=image/jpeg:https://vetk.hu/wp-content/uploads/2024/04/Turisztika-hatterkep.jpg
ORGANIZER;CN="Veszpr%C3%A9mi %C3%89rseki Turisztikai K%C3%B6zpont":MAILTO:turizmus@veszpremiersekseg.hu
END:VEVENT
BEGIN:VEVENT
DTSTART;TZID=Europe/Budapest:20241208T100000
DTEND;TZID=Europe/Budapest:20241208T180000
DTSTAMP:20260423T001522
CREATED:20241129T090603Z
LAST-MODIFIED:20241129T090603Z
UID:4853-1733652000-1733680800@vetk.hu
SUMMARY:WIP’24 várséta: 11:30\, 14 és 16 órakor
DESCRIPTION:A túrahelyszínek és a szabadon látogatható helyszínek igazodnak a munkálatokhoz.\n\n\n\nA kiállítások megtekintése és a túravezetés díjmentes\, de regisztrációhoz kötött. \nRegisztráció: \nSegítség a regisztrációhoz: 📲\nAzon kedves vendégeink\, akik nem regisztrálnak\, érkezési sorrendben és hely függvényében vehetnek részt a túráinkon.\n\n\n\n\nA Biró-Giczey Ház kiállításai:\nHÉTFŐ: ZÁRVA\nKEDD-PÉNTEK 17:00-19:00\nSZOMBAT-VASÁRNAP 10:00-18:00\n\nKamrakiállítás – a barokk-kori székesegyház titkai\nNem káptalan a fejem kiállítás – mi a stallum? \nRégészeti kiállítás – az első pénzérménk\, a Szent István dénár története\nFreskós szobák – milyen történetet rejtenek a gyönyörű freskók? \nA kanonoki ház kertje – csend és nyugalom. \n\nSzombaton és vasárnap az ajándékbolt is nyitva van\, nézze meg egyedi\, freskó-grafikás termékeinket. \nSzeretettel várunk mindenkit!
URL:https://vetk.hu/event/wip24-varseta-1130-14-es-16-orakor-30/
LOCATION:Biró-Giczey Ház\, Vár utca 31.\, Veszprém\, Veszprém\, 8200\, Magyarország
CATEGORIES:családos program,ingyenes
ATTACH;FMTTYPE=image/jpeg:https://vetk.hu/wp-content/uploads/2024/04/Turisztika-hatterkep.jpg
ORGANIZER;CN="Veszpr%C3%A9mi %C3%89rseki Turisztikai K%C3%B6zpont":MAILTO:turizmus@veszpremiersekseg.hu
END:VEVENT
BEGIN:VEVENT
DTSTART;TZID=Europe/Budapest:20241214T100000
DTEND;TZID=Europe/Budapest:20241214T180000
DTSTAMP:20260423T001522
CREATED:20241129T090836Z
LAST-MODIFIED:20241129T090836Z
UID:4855-1734170400-1734199200@vetk.hu
SUMMARY:WIP’24 várséta: 11:30\, 14 és 15:30-kor
DESCRIPTION:A túrahelyszínek és a szabadon látogatható helyszínek igazodnak a munkálatokhoz.\n\n\n\nA kiállítások megtekintése és a túravezetés díjmentes\, de regisztrációhoz kötött. \nRegisztráció: \nSegítség a regisztrációhoz: 📲\nAzon kedves vendégeink\, akik nem regisztrálnak\, érkezési sorrendben és hely függvényében vehetnek részt a túráinkon.\n\n\n\n\nA Biró-Giczey Ház kiállításai:\nHÉTFŐ: ZÁRVA\nKEDD-PÉNTEK 17:00-19:00\nSZOMBAT-VASÁRNAP 10:00-18:00\n\nKamrakiállítás – a barokk-kori székesegyház titkai\nNem káptalan a fejem kiállítás – mi a stallum? \nRégészeti kiállítás – az első pénzérménk\, a Szent István dénár története\nFreskós szobák – milyen történetet rejtenek a gyönyörű freskók? \nA kanonoki ház kertje – csend és nyugalom. \n\nSzombaton és vasárnap az ajándékbolt is nyitva van\, nézze meg egyedi\, freskó-grafikás termékeinket. \nSzeretettel várunk mindenkit!
URL:https://vetk.hu/event/wip24-varseta-1130-14-es-1530-kor/
LOCATION:Biró-Giczey Ház\, Vár utca 31.\, Veszprém\, Veszprém\, 8200\, Magyarország
CATEGORIES:családos program,ingyenes
ATTACH;FMTTYPE=image/jpeg:https://vetk.hu/wp-content/uploads/2024/04/Turisztika-hatterkep.jpg
ORGANIZER;CN="Veszpr%C3%A9mi %C3%89rseki Turisztikai K%C3%B6zpont":MAILTO:turizmus@veszpremiersekseg.hu
END:VEVENT
BEGIN:VEVENT
DTSTART;TZID=Europe/Budapest:20241215T100000
DTEND;TZID=Europe/Budapest:20241215T180000
DTSTAMP:20260423T001522
CREATED:20241129T091005Z
LAST-MODIFIED:20241129T091005Z
UID:4857-1734256800-1734285600@vetk.hu
SUMMARY:WIP’24 várséta: 12:30\, 14 és 16 órakor
DESCRIPTION:A túrahelyszínek és a szabadon látogatható helyszínek igazodnak a munkálatokhoz.\n\n\n\nA kiállítások megtekintése és a túravezetés díjmentes\, de regisztrációhoz kötött. \nRegisztráció: \nSegítség a regisztrációhoz: 📲\nAzon kedves vendégeink\, akik nem regisztrálnak\, érkezési sorrendben és hely függvényében vehetnek részt a túráinkon.\n\n\n\n\nA Biró-Giczey Ház kiállításai:\nHÉTFŐ: ZÁRVA\nKEDD-PÉNTEK 17:00-19:00\nSZOMBAT-VASÁRNAP 10:00-18:00\n\nKamrakiállítás – a barokk-kori székesegyház titkai\nNem káptalan a fejem kiállítás – mi a stallum? \nRégészeti kiállítás – az első pénzérménk\, a Szent István dénár története\nFreskós szobák – milyen történetet rejtenek a gyönyörű freskók? \nA kanonoki ház kertje – csend és nyugalom. \n\nSzombaton és vasárnap az ajándékbolt is nyitva van\, nézze meg egyedi\, freskó-grafikás termékeinket. \nSzeretettel várunk mindenkit!
URL:https://vetk.hu/event/wip24-varseta-1230-14-es-16-orakor/
LOCATION:Biró-Giczey Ház\, Vár utca 31.\, Veszprém\, Veszprém\, 8200\, Magyarország
CATEGORIES:családos program,ingyenes
ATTACH;FMTTYPE=image/jpeg:https://vetk.hu/wp-content/uploads/2024/04/Turisztika-hatterkep.jpg
ORGANIZER;CN="Veszpr%C3%A9mi %C3%89rseki Turisztikai K%C3%B6zpont":MAILTO:turizmus@veszpremiersekseg.hu
END:VEVENT
BEGIN:VEVENT
DTSTART;TZID=Europe/Budapest:20241221T080000
DTEND;TZID=Europe/Budapest:20241221T170000
DTSTAMP:20260423T001522
CREATED:20241129T091107Z
LAST-MODIFIED:20241129T091107Z
UID:4859-1734768000-1734800400@vetk.hu
SUMMARY:WIP’24 várséta: 11:30\, 14 és 16 órakor
DESCRIPTION:A túrahelyszínek és a szabadon látogatható helyszínek igazodnak a munkálatokhoz.\n\n\n\nA kiállítások megtekintése és a túravezetés díjmentes\, de regisztrációhoz kötött. \nRegisztráció: \nSegítség a regisztrációhoz: 📲\nAzon kedves vendégeink\, akik nem regisztrálnak\, érkezési sorrendben és hely függvényében vehetnek részt a túráinkon.\n\n\n\n\nA Biró-Giczey Ház kiállításai:\nHÉTFŐ: ZÁRVA\nKEDD-PÉNTEK 17:00-19:00\nSZOMBAT-VASÁRNAP 10:00-18:00\n\nKamrakiállítás – a barokk-kori székesegyház titkai\nNem káptalan a fejem kiállítás – mi a stallum? \nRégészeti kiállítás – az első pénzérménk\, a Szent István dénár története\nFreskós szobák – milyen történetet rejtenek a gyönyörű freskók? \nA kanonoki ház kertje – csend és nyugalom. \n\nSzombaton és vasárnap az ajándékbolt is nyitva van\, nézze meg egyedi\, freskó-grafikás termékeinket. \nSzeretettel várunk mindenkit!
URL:https://vetk.hu/event/wip24-varseta-1130-14-es-16-orakor-31/
LOCATION:Biró-Giczey Ház\, Vár utca 31.\, Veszprém\, Veszprém\, 8200\, Magyarország
CATEGORIES:családos program,ingyenes
ATTACH;FMTTYPE=image/jpeg:https://vetk.hu/wp-content/uploads/2024/04/Turisztika-hatterkep.jpg
ORGANIZER;CN="Veszpr%C3%A9mi %C3%89rseki Turisztikai K%C3%B6zpont":MAILTO:turizmus@veszpremiersekseg.hu
END:VEVENT
BEGIN:VEVENT
DTSTART;TZID=Europe/Budapest:20241222T100000
DTEND;TZID=Europe/Budapest:20241222T180000
DTSTAMP:20260423T001522
CREATED:20241129T091243Z
LAST-MODIFIED:20241129T091243Z
UID:4861-1734861600-1734890400@vetk.hu
SUMMARY:WIP’24 várséta: 11:30\, 14 és 16 órakor
DESCRIPTION:A túrahelyszínek és a szabadon látogatható helyszínek igazodnak a munkálatokhoz.\n\n\n\nA kiállítások megtekintése és a túravezetés díjmentes\, de regisztrációhoz kötött. \nRegisztráció: \nSegítség a regisztrációhoz: 📲\nAzon kedves vendégeink\, akik nem regisztrálnak\, érkezési sorrendben és hely függvényében vehetnek részt a túráinkon.\n\n\n\n\nA Biró-Giczey Ház kiállításai:\nHÉTFŐ: ZÁRVA\nKEDD-PÉNTEK 17:00-19:00\nSZOMBAT-VASÁRNAP 10:00-18:00\n\nKamrakiállítás – a barokk-kori székesegyház titkai\nNem káptalan a fejem kiállítás – mi a stallum? \nRégészeti kiállítás – az első pénzérménk\, a Szent István dénár története\nFreskós szobák – milyen történetet rejtenek a gyönyörű freskók? \nA kanonoki ház kertje – csend és nyugalom. \n\nSzombaton és vasárnap az ajándékbolt is nyitva van\, nézze meg egyedi\, freskó-grafikás termékeinket. \nSzeretettel várunk mindenkit!
URL:https://vetk.hu/event/wip24-varseta-1130-14-es-16-orakor-32/
LOCATION:Biró-Giczey Ház\, Vár utca 31.\, Veszprém\, Veszprém\, 8200\, Magyarország
CATEGORIES:családos program,ingyenes
ATTACH;FMTTYPE=image/jpeg:https://vetk.hu/wp-content/uploads/2024/04/Turisztika-hatterkep.jpg
ORGANIZER;CN="Veszpr%C3%A9mi %C3%89rseki Turisztikai K%C3%B6zpont":MAILTO:turizmus@veszpremiersekseg.hu
END:VEVENT
BEGIN:VEVENT
DTSTART;TZID=Europe/Budapest:20241228T100000
DTEND;TZID=Europe/Budapest:20241228T180000
DTSTAMP:20260423T001522
CREATED:20241129T091341Z
LAST-MODIFIED:20241129T091341Z
UID:4863-1735380000-1735408800@vetk.hu
SUMMARY:WIP’24 várséta: 11:30\, 14 és 16 órakor
DESCRIPTION:A túrahelyszínek és a szabadon látogatható helyszínek igazodnak a munkálatokhoz.\n\n\n\nA kiállítások megtekintése és a túravezetés díjmentes\, de regisztrációhoz kötött. \nRegisztráció: \nSegítség a regisztrációhoz: 📲\nAzon kedves vendégeink\, akik nem regisztrálnak\, érkezési sorrendben és hely függvényében vehetnek részt a túráinkon.\n\n\n\n\nA Biró-Giczey Ház kiállításai:\nHÉTFŐ: ZÁRVA\nKEDD-PÉNTEK 17:00-19:00\nSZOMBAT-VASÁRNAP 10:00-18:00\n\nKamrakiállítás – a barokk-kori székesegyház titkai\nNem káptalan a fejem kiállítás – mi a stallum? \nRégészeti kiállítás – az első pénzérménk\, a Szent István dénár története\nFreskós szobák – milyen történetet rejtenek a gyönyörű freskók? \nA kanonoki ház kertje – csend és nyugalom. \n\nSzombaton és vasárnap az ajándékbolt is nyitva van\, nézze meg egyedi\, freskó-grafikás termékeinket. \nSzeretettel várunk mindenkit!
URL:https://vetk.hu/event/wip24-varseta-1130-14-es-16-orakor-33/
LOCATION:Biró-Giczey Ház\, Vár utca 31.\, Veszprém\, Veszprém\, 8200\, Magyarország
CATEGORIES:családos program,ingyenes
ATTACH;FMTTYPE=image/jpeg:https://vetk.hu/wp-content/uploads/2024/04/Turisztika-hatterkep.jpg
ORGANIZER;CN="Veszpr%C3%A9mi %C3%89rseki Turisztikai K%C3%B6zpont":MAILTO:turizmus@veszpremiersekseg.hu
END:VEVENT
BEGIN:VEVENT
DTSTART;TZID=Europe/Budapest:20241229T100000
DTEND;TZID=Europe/Budapest:20241229T180000
DTSTAMP:20260423T001522
CREATED:20241129T091442Z
LAST-MODIFIED:20241129T091442Z
UID:4865-1735466400-1735495200@vetk.hu
SUMMARY:WIP’24 várséta: 11:30\, 14 és 16 órakor
DESCRIPTION:A túrahelyszínek és a szabadon látogatható helyszínek igazodnak a munkálatokhoz.\n\n\n\nA kiállítások megtekintése és a túravezetés díjmentes\, de regisztrációhoz kötött. \nRegisztráció: \nSegítség a regisztrációhoz: 📲\nAzon kedves vendégeink\, akik nem regisztrálnak\, érkezési sorrendben és hely függvényében vehetnek részt a túráinkon.\n\n\n\n\nA Biró-Giczey Ház kiállításai:\nHÉTFŐ: ZÁRVA\nKEDD-PÉNTEK 17:00-19:00\nSZOMBAT-VASÁRNAP 10:00-18:00\n\nKamrakiállítás – a barokk-kori székesegyház titkai\nNem káptalan a fejem kiállítás – mi a stallum? \nRégészeti kiállítás – az első pénzérménk\, a Szent István dénár története\nFreskós szobák – milyen történetet rejtenek a gyönyörű freskók? \nA kanonoki ház kertje – csend és nyugalom. \n\nSzombaton és vasárnap az ajándékbolt is nyitva van\, nézze meg egyedi\, freskó-grafikás termékeinket. \nSzeretettel várunk mindenkit!
URL:https://vetk.hu/event/wip24-varseta-1130-14-es-16-orakor-34/
LOCATION:Biró-Giczey Ház\, Vár utca 31.\, Veszprém\, Veszprém\, 8200\, Magyarország
CATEGORIES:családos program,ingyenes
ATTACH;FMTTYPE=image/jpeg:https://vetk.hu/wp-content/uploads/2024/04/Turisztika-hatterkep.jpg
ORGANIZER;CN="Veszpr%C3%A9mi %C3%89rseki Turisztikai K%C3%B6zpont":MAILTO:turizmus@veszpremiersekseg.hu
END:VEVENT
END:VCALENDAR